BEGIN:VCALENDAR
VERSION:2.0
PRODID:-//Harvel Hash House Harriers - ECPv6.15.15//NONSGML v1.0//EN
CALSCALE:GREGORIAN
METHOD:PUBLISH
X-ORIGINAL-URL:https://harvelhashhouseharriers.com
X-WR-CALDESC:Events for Harvel Hash House Harriers
REFRESH-INTERVAL;VALUE=DURATION:PT1H
X-Robots-Tag:noindex
X-PUBLISHED-TTL:PT1H
BEGIN:VTIMEZONE
TZID:UTC
BEGIN:STANDARD
TZOFFSETFROM:+0000
TZOFFSETTO:+0000
TZNAME:UTC
DTSTART:20170101T000000
END:STANDARD
END:VTIMEZONE
BEGIN:VEVENT
DTSTART;TZID=UTC:20181209T100000
DTEND;TZID=UTC:20181209T120000
DTSTAMP:20260421T013933
CREATED:20200209T181832Z
LAST-MODIFIED:20200209T181832Z
UID:397-1544349600-1544356800@harvelhashhouseharriers.com
SUMMARY:Maidstone Harriers: Turkey Run
DESCRIPTION:
URL:https://harvelhashhouseharriers.com/event/maidstone-harriers-turkey-run/
END:VEVENT
BEGIN:VEVENT
DTSTART;TZID=UTC:20181202T090000
DTEND;TZID=UTC:20181202T130000
DTSTAMP:20260421T013933
CREATED:20200209T181832Z
LAST-MODIFIED:20200209T181832Z
UID:396-1543741200-1543755600@harvelhashhouseharriers.com
SUMMARY:Mouth to Mouth Marathon
DESCRIPTION:
URL:https://harvelhashhouseharriers.com/event/mouth-to-mouth-marathon/
END:VEVENT
BEGIN:VEVENT
DTSTART;TZID=UTC:20181201T093000
DTEND;TZID=UTC:20181201T120000
DTSTAMP:20260421T013933
CREATED:20200209T181825Z
LAST-MODIFIED:20200209T181825Z
UID:395-1543656600-1543665600@harvelhashhouseharriers.com
SUMMARY:Saxon Shore Advent Challenge
DESCRIPTION:
URL:https://harvelhashhouseharriers.com/event/saxon-shore-advent-challenge/
END:VEVENT
BEGIN:VEVENT
DTSTART;TZID=UTC:20181125T100000
DTEND;TZID=UTC:20181125T120000
DTSTAMP:20260421T013933
CREATED:20200209T181825Z
LAST-MODIFIED:20200209T181825Z
UID:394-1543140000-1543147200@harvelhashhouseharriers.com
SUMMARY:Tyler Hill Orienteering / 10k
DESCRIPTION:
URL:https://harvelhashhouseharriers.com/event/tyler-hill-orienteering-10k/
END:VEVENT
BEGIN:VEVENT
DTSTART;TZID=UTC:20181118T100000
DTEND;TZID=UTC:20181118T120000
DTSTAMP:20260421T013933
CREATED:20200209T181825Z
LAST-MODIFIED:20200209T181825Z
UID:393-1542535200-1542542400@harvelhashhouseharriers.com
SUMMARY:Bedgebury Half & 10K
DESCRIPTION:
URL:https://harvelhashhouseharriers.com/event/bedgebury-half-10k/
END:VEVENT
BEGIN:VEVENT
DTSTART;TZID=UTC:20181104T110000
DTEND;TZID=UTC:20181104T130000
DTSTAMP:20260421T013933
CREATED:20200209T181825Z
LAST-MODIFIED:20200209T181825Z
UID:392-1541329200-1541336400@harvelhashhouseharriers.com
SUMMARY:H4 Hash
DESCRIPTION:
URL:https://harvelhashhouseharriers.com/event/h4-hash-9/
END:VEVENT
BEGIN:VEVENT
DTSTART;TZID=UTC:20181027T090000
DTEND;TZID=UTC:20181027T150000
DTSTAMP:20260421T013933
CREATED:20200209T181825Z
LAST-MODIFIED:20200209T181825Z
UID:391-1540630800-1540652400@harvelhashhouseharriers.com
SUMMARY:Beachy Head Marathon
DESCRIPTION:
URL:https://harvelhashhouseharriers.com/event/beachy-head-marathon-3/
END:VEVENT
BEGIN:VEVENT
DTSTART;TZID=UTC:20181021T100000
DTEND;TZID=UTC:20181021T113000
DTSTAMP:20260421T013933
CREATED:20200209T181823Z
LAST-MODIFIED:20200209T181823Z
UID:390-1540116000-1540121400@harvelhashhouseharriers.com
SUMMARY:H4 Handicap Round 8 : Trail
DESCRIPTION:
URL:https://harvelhashhouseharriers.com/event/h4-handicap-round-8-trail/
END:VEVENT
BEGIN:VEVENT
DTSTART;TZID=UTC:20181020T100000
DTEND;TZID=UTC:20181020T140000
DTSTAMP:20260421T013933
CREATED:20200209T181823Z
LAST-MODIFIED:20200209T181823Z
UID:389-1540029600-1540044000@harvelhashhouseharriers.com
SUMMARY:Saxon Shore Beerathon
DESCRIPTION:
URL:https://harvelhashhouseharriers.com/event/saxon-shore-beerathon/
END:VEVENT
BEGIN:VEVENT
DTSTART;TZID=UTC:20181007T110000
DTEND;TZID=UTC:20181007T130000
DTSTAMP:20260421T013933
CREATED:20200209T181823Z
LAST-MODIFIED:20200209T181823Z
UID:388-1538910000-1538917200@harvelhashhouseharriers.com
SUMMARY:H4 : Womble Hash
DESCRIPTION:
URL:https://harvelhashhouseharriers.com/event/h4-womble-hash/
END:VEVENT
BEGIN:VEVENT
DTSTART;TZID=UTC:20180921T190000
DTEND;TZID=UTC:20180921T210000
DTSTAMP:20260421T013933
CREATED:20200209T181823Z
LAST-MODIFIED:20200209T181823Z
UID:387-1537556400-1537563600@harvelhashhouseharriers.com
SUMMARY:H4 Equinox hash
DESCRIPTION:
URL:https://harvelhashhouseharriers.com/event/h4-equinox-hash-2/
END:VEVENT
BEGIN:VEVENT
DTSTART;TZID=UTC:20180918T190000
DTEND;TZID=UTC:20180918T203000
DTSTAMP:20260421T013933
CREATED:20200209T181822Z
LAST-MODIFIED:20200209T181822Z
UID:386-1537297200-1537302600@harvelhashhouseharriers.com
SUMMARY:H4 Handicap Round 7: H5 Route
DESCRIPTION:
URL:https://harvelhashhouseharriers.com/event/h4-handicap-round-7-h5-route/
END:VEVENT
BEGIN:VEVENT
DTSTART;TZID=UTC:20180909T103000
DTEND;TZID=UTC:20180909T120000
DTSTAMP:20260421T013933
CREATED:20200209T181724Z
LAST-MODIFIED:20200209T181724Z
UID:385-1536489000-1536494400@harvelhashhouseharriers.com
SUMMARY:Eridge 10
DESCRIPTION:
URL:https://harvelhashhouseharriers.com/event/eridge-10-4/
END:VEVENT
BEGIN:VEVENT
DTSTART;TZID=UTC:20180902T103000
DTEND;TZID=UTC:20180902T120000
DTSTAMP:20260421T013933
CREATED:20200209T181724Z
LAST-MODIFIED:20200209T181724Z
UID:384-1535884200-1535889600@harvelhashhouseharriers.com
SUMMARY:Weald 10K
DESCRIPTION:
URL:https://harvelhashhouseharriers.com/event/weald-10k-3/
END:VEVENT
BEGIN:VEVENT
DTSTART;TZID=UTC:20180819T110000
DTEND;TZID=UTC:20180819T140000
DTSTAMP:20260421T013933
CREATED:20200209T181724Z
LAST-MODIFIED:20200209T181724Z
UID:383-1534676400-1534687200@harvelhashhouseharriers.com
SUMMARY:H4 Pebbledash Hash
DESCRIPTION:
URL:https://harvelhashhouseharriers.com/event/h4-pebbledash-hash/
END:VEVENT
BEGIN:VEVENT
DTSTART;TZID=UTC:20180811T120000
DTEND;TZID=UTC:20180811T180000
DTSTAMP:20260421T013933
CREATED:20200209T181724Z
LAST-MODIFIED:20200209T181724Z
UID:382-1533988800-1534010400@harvelhashhouseharriers.com
SUMMARY:H4 Bike Pub Crawl
DESCRIPTION:
URL:https://harvelhashhouseharriers.com/event/h4-bike-pub-crawl/
END:VEVENT
BEGIN:VEVENT
DTSTART;TZID=UTC:20180729T110000
DTEND;TZID=UTC:20180729T130000
DTSTAMP:20260421T013933
CREATED:20200209T181723Z
LAST-MODIFIED:20200209T181723Z
UID:381-1532862000-1532869200@harvelhashhouseharriers.com
SUMMARY:H4 - Lavender Run
DESCRIPTION:
URL:https://harvelhashhouseharriers.com/event/h4-lavender-run/
END:VEVENT
BEGIN:VEVENT
DTSTART;TZID=UTC:20180717T190000
DTEND;TZID=UTC:20180717T203000
DTSTAMP:20260421T013933
CREATED:20200209T180417Z
LAST-MODIFIED:20200209T180417Z
UID:377-1531854000-1531859400@harvelhashhouseharriers.com
SUMMARY:H4 Handicap Round 6:  Trail
DESCRIPTION:
URL:https://harvelhashhouseharriers.com/event/h4-handicap-round-6-trail/
END:VEVENT
BEGIN:VEVENT
DTSTART;TZID=UTC:20180626T190000
DTEND;TZID=UTC:20180626T203000
DTSTAMP:20260421T013933
CREATED:20200209T180417Z
LAST-MODIFIED:20200209T180417Z
UID:376-1530039600-1530045000@harvelhashhouseharriers.com
SUMMARY:H4 Handicap Round 5 : H5 Route
DESCRIPTION:
URL:https://harvelhashhouseharriers.com/event/h4-handicap-round-5-h5-route/
END:VEVENT
BEGIN:VEVENT
DTSTART;TZID=UTC:20180624T103000
DTEND;TZID=UTC:20180624T140000
DTSTAMP:20260421T013933
CREATED:20200209T180417Z
LAST-MODIFIED:20200209T180417Z
UID:375-1529836200-1529848800@harvelhashhouseharriers.com
SUMMARY:North Downs Run
DESCRIPTION:
URL:https://harvelhashhouseharriers.com/event/north-downs-run-5/
END:VEVENT
BEGIN:VEVENT
DTSTART;TZID=UTC:20180616T000000
DTEND;TZID=UTC:20180617T000000
DTSTAMP:20260421T013933
CREATED:20200209T180417Z
LAST-MODIFIED:20200209T180417Z
UID:374-1529107200-1529193600@harvelhashhouseharriers.com
SUMMARY:TitchFest !
DESCRIPTION:
URL:https://harvelhashhouseharriers.com/event/titchfest/
END:VEVENT
BEGIN:VEVENT
DTSTART;TZID=UTC:20180602T000000
DTEND;TZID=UTC:20180603T000000
DTSTAMP:20260421T013933
CREATED:20200209T180417Z
LAST-MODIFIED:20200209T180417Z
UID:373-1527897600-1527984000@harvelhashhouseharriers.com
SUMMARY:H4 : Harvel 5
DESCRIPTION:
URL:https://harvelhashhouseharriers.com/event/h4-harvel-5/
END:VEVENT
BEGIN:VEVENT
DTSTART;TZID=UTC:20180527T093000
DTEND;TZID=UTC:20180527T140000
DTSTAMP:20260421T013933
CREATED:20200209T180412Z
LAST-MODIFIED:20200209T180412Z
UID:372-1527413400-1527429600@harvelhashhouseharriers.com
SUMMARY:Edinburgh Marathon / Half / Team Relay
DESCRIPTION:
URL:https://harvelhashhouseharriers.com/event/edinburgh-marathon-half-team-relay/
END:VEVENT
BEGIN:VEVENT
DTSTART;TZID=UTC:20180522T190000
DTEND;TZID=UTC:20180522T203000
DTSTAMP:20260421T013933
CREATED:20200209T180412Z
LAST-MODIFIED:20200209T180412Z
UID:371-1527015600-1527021000@harvelhashhouseharriers.com
SUMMARY:H4 Handicap Round 4 :Trail
DESCRIPTION:
URL:https://harvelhashhouseharriers.com/event/h4-handicap-round-4-trail/
END:VEVENT
BEGIN:VEVENT
DTSTART;TZID=UTC:20180513T083000
DTEND;TZID=UTC:20180513T093000
DTSTAMP:20260421T013933
CREATED:20200209T180412Z
LAST-MODIFIED:20200209T180412Z
UID:370-1526200200-1526203800@harvelhashhouseharriers.com
SUMMARY:Darent Valley 10K
DESCRIPTION:
URL:https://harvelhashhouseharriers.com/event/darent-valley-10k-3/
END:VEVENT
BEGIN:VEVENT
DTSTART;TZID=UTC:20180511T000000
DTEND;TZID=UTC:20180514T000000
DTSTAMP:20260421T013933
CREATED:20200209T180411Z
LAST-MODIFIED:20200209T180411Z
UID:369-1525996800-1526256000@harvelhashhouseharriers.com
SUMMARY:Votwo Devon Coastal Challenge
DESCRIPTION:
URL:https://harvelhashhouseharriers.com/event/votwo-devon-coastal-challenge/
END:VEVENT
BEGIN:VEVENT
DTSTART;TZID=UTC:20180422T000000
DTEND;TZID=UTC:20180423T000000
DTSTAMP:20260421T013933
CREATED:20200209T180411Z
LAST-MODIFIED:20200209T180411Z
UID:368-1524355200-1524441600@harvelhashhouseharriers.com
SUMMARY:London Marathon
DESCRIPTION:
URL:https://harvelhashhouseharriers.com/event/london-marathon-4/
END:VEVENT
BEGIN:VEVENT
DTSTART;TZID=UTC:20180417T190000
DTEND;TZID=UTC:20180417T203000
DTSTAMP:20260421T013933
CREATED:20200209T180405Z
LAST-MODIFIED:20200209T180405Z
UID:367-1523991600-1523997000@harvelhashhouseharriers.com
SUMMARY:H4 Handicap Round 3
DESCRIPTION:
URL:https://harvelhashhouseharriers.com/event/h4-handicap-round-3-3/
END:VEVENT
BEGIN:VEVENT
DTSTART;TZID=UTC:20180415T100000
DTEND;TZID=UTC:20180415T130000
DTSTAMP:20260421T013933
CREATED:20200209T180405Z
LAST-MODIFIED:20200209T180405Z
UID:366-1523786400-1523797200@harvelhashhouseharriers.com
SUMMARY:Brighton Marathon
DESCRIPTION:
URL:https://harvelhashhouseharriers.com/event/brighton-marathon/
END:VEVENT
BEGIN:VEVENT
DTSTART;TZID=UTC:20180408T110000
DTEND;TZID=UTC:20180408T120000
DTSTAMP:20260421T013933
CREATED:20200209T180405Z
LAST-MODIFIED:20200209T180405Z
UID:365-1523185200-1523188800@harvelhashhouseharriers.com
SUMMARY:Sevenoaks Rotary 10K
DESCRIPTION:
URL:https://harvelhashhouseharriers.com/event/sevenoaks-rotary-10k/
END:VEVENT
END:VCALENDAR