BEGIN:VCALENDAR
VERSION:2.0
PRODID:-//Harvel Hash House Harriers - ECPv6.15.15//NONSGML v1.0//EN
CALSCALE:GREGORIAN
METHOD:PUBLISH
X-WR-CALNAME:Harvel Hash House Harriers
X-ORIGINAL-URL:https://harvelhashhouseharriers.com
X-WR-CALDESC:Events for Harvel Hash House Harriers
REFRESH-INTERVAL;VALUE=DURATION:PT1H
X-Robots-Tag:noindex
X-PUBLISHED-TTL:PT1H
BEGIN:VTIMEZONE
TZID:UTC
BEGIN:STANDARD
TZOFFSETFROM:+0000
TZOFFSETTO:+0000
TZNAME:UTC
DTSTART:20160101T000000
END:STANDARD
END:VTIMEZONE
BEGIN:VEVENT
DTSTART;TZID=UTC:20180317T080000
DTEND;TZID=UTC:20180317T140000
DTSTAMP:20260421T061209
CREATED:20200209T180339Z
LAST-MODIFIED:20200209T180339Z
UID:358-1521273600-1521295200@harvelhashhouseharriers.com
SUMMARY:Coastal Trail : Sussex Ultra
DESCRIPTION:
URL:https://harvelhashhouseharriers.com/event/coastal-trail-sussex-ultra/
END:VEVENT
BEGIN:VEVENT
DTSTART;TZID=UTC:20180313T200000
DTEND;TZID=UTC:20180313T210000
DTSTAMP:20260421T061209
CREATED:20200209T180332Z
LAST-MODIFIED:20200209T180332Z
UID:357-1520971200-1520974800@harvelhashhouseharriers.com
SUMMARY:H4 AGM
DESCRIPTION:
URL:https://harvelhashhouseharriers.com/event/h4-agm-2/
END:VEVENT
BEGIN:VEVENT
DTSTART;TZID=UTC:20180304T100000
DTEND;TZID=UTC:20180304T120000
DTSTAMP:20260421T061209
CREATED:20200209T180332Z
LAST-MODIFIED:20200209T180332Z
UID:356-1520157600-1520164800@harvelhashhouseharriers.com
SUMMARY:Eastbourne Half Marathon
DESCRIPTION:
URL:https://harvelhashhouseharriers.com/event/eastbourne-half-marathon/
END:VEVENT
BEGIN:VEVENT
DTSTART;TZID=UTC:20180218T100000
DTEND;TZID=UTC:20180218T113000
DTSTAMP:20260421T061209
CREATED:20200209T180331Z
LAST-MODIFIED:20200209T180331Z
UID:355-1518948000-1518953400@harvelhashhouseharriers.com
SUMMARY:H4 Handicap: Round 1 2018
DESCRIPTION:
URL:https://harvelhashhouseharriers.com/event/h4-handicap-round-1-2018/
END:VEVENT
BEGIN:VEVENT
DTSTART;TZID=UTC:20180218T093000
DTEND;TZID=UTC:20180218T130000
DTSTAMP:20260421T061209
CREATED:20200209T180331Z
LAST-MODIFIED:20200209T180331Z
UID:354-1518946200-1518958800@harvelhashhouseharriers.com
SUMMARY:Dirty Running - Surrey
DESCRIPTION:
URL:https://harvelhashhouseharriers.com/event/dirty-running-surrey/
END:VEVENT
BEGIN:VEVENT
DTSTART;TZID=UTC:20180218T090000
DTEND;TZID=UTC:20180218T110000
DTSTAMP:20260421T061209
CREATED:20200209T180331Z
LAST-MODIFIED:20200209T180331Z
UID:353-1518944400-1518951600@harvelhashhouseharriers.com
SUMMARY:Tunbridge Wells Half Marathon
DESCRIPTION:
URL:https://harvelhashhouseharriers.com/event/tunbridge-wells-half-marathon-4/
END:VEVENT
BEGIN:VEVENT
DTSTART;TZID=UTC:20180211T103000
DTEND;TZID=UTC:20180211T120000
DTSTAMP:20260421T061209
CREATED:20200209T180330Z
LAST-MODIFIED:20200209T180330Z
UID:352-1518345000-1518350400@harvelhashhouseharriers.com
SUMMARY:H4/Vigo Runners:  Valentines Run(s)
DESCRIPTION:
URL:https://harvelhashhouseharriers.com/event/h4-vigo-runners-valentines-runs/
END:VEVENT
BEGIN:VEVENT
DTSTART;TZID=UTC:20180204T090000
DTEND;TZID=UTC:20180204T110000
DTSTAMP:20260421T061209
CREATED:20200209T180330Z
LAST-MODIFIED:20200209T180330Z
UID:351-1517734800-1517742000@harvelhashhouseharriers.com
SUMMARY:Bedgebury Forest 10 & 5 Mile
DESCRIPTION:
URL:https://harvelhashhouseharriers.com/event/bedgebury-forest-10-5-mile/
END:VEVENT
BEGIN:VEVENT
DTSTART;TZID=UTC:20180127T183000
DTEND;TZID=UTC:20180128T010000
DTSTAMP:20260421T061209
CREATED:20200209T180330Z
LAST-MODIFIED:20200209T180330Z
UID:350-1517077800-1517101200@harvelhashhouseharriers.com
SUMMARY:H4 Dinner Dance
DESCRIPTION:
URL:https://harvelhashhouseharriers.com/event/h4-dinner-dance-3/
END:VEVENT
BEGIN:VEVENT
DTSTART;TZID=UTC:20180121T100000
DTEND;TZID=UTC:20180121T113000
DTSTAMP:20260421T061209
CREATED:20200209T180330Z
LAST-MODIFIED:20200209T180330Z
UID:349-1516528800-1516534200@harvelhashhouseharriers.com
SUMMARY:Canterbury 10
DESCRIPTION:
URL:https://harvelhashhouseharriers.com/event/canterbury-10/
END:VEVENT
BEGIN:VEVENT
DTSTART;TZID=UTC:20180106T100000
DTEND;TZID=UTC:20180106T130000
DTSTAMP:20260421T061209
CREATED:20200209T180330Z
LAST-MODIFIED:20200209T180330Z
UID:348-1515232800-1515243600@harvelhashhouseharriers.com
SUMMARY:H4  Hat n Tash Hash
DESCRIPTION:
URL:https://harvelhashhouseharriers.com/event/h4-hat-n-tash-hash/
END:VEVENT
BEGIN:VEVENT
DTSTART;TZID=UTC:20171217T000000
DTEND;TZID=UTC:20171218T000000
DTSTAMP:20260421T061209
CREATED:20200209T180324Z
LAST-MODIFIED:20200209T180324Z
UID:347-1513468800-1513555200@harvelhashhouseharriers.com
SUMMARY:Santa Hash (Ho ho ho)
DESCRIPTION:
URL:https://harvelhashhouseharriers.com/event/santa-hash-ho-ho-ho/
END:VEVENT
BEGIN:VEVENT
DTSTART;TZID=UTC:20171210T110000
DTEND;TZID=UTC:20171210T120000
DTSTAMP:20260421T061209
CREATED:20200209T180324Z
LAST-MODIFIED:20200209T180324Z
UID:346-1512903600-1512907200@harvelhashhouseharriers.com
SUMMARY:Turkey Run
DESCRIPTION:
URL:https://harvelhashhouseharriers.com/event/turkey-run-2/
END:VEVENT
BEGIN:VEVENT
DTSTART;TZID=UTC:20171202T093000
DTEND;TZID=UTC:20171202T143000
DTSTAMP:20260421T061209
CREATED:20200209T180324Z
LAST-MODIFIED:20200209T180324Z
UID:345-1512207000-1512225000@harvelhashhouseharriers.com
SUMMARY:Fowlmead Challenge
DESCRIPTION:
URL:https://harvelhashhouseharriers.com/event/fowlmead-challenge/
END:VEVENT
BEGIN:VEVENT
DTSTART;TZID=UTC:20171130T193000
DTEND;TZID=UTC:20171130T203000
DTSTAMP:20260421T061209
CREATED:20200209T180324Z
LAST-MODIFIED:20200209T180324Z
UID:344-1512070200-1512073800@harvelhashhouseharriers.com
SUMMARY:Cyclopark Winter 5 Mile Series
DESCRIPTION:
URL:https://harvelhashhouseharriers.com/event/cyclopark-winter-5-mile-series/
END:VEVENT
BEGIN:VEVENT
DTSTART;TZID=UTC:20171121T201500
DTEND;TZID=UTC:20171121T213000
DTSTAMP:20260421T061209
CREATED:20200209T180324Z
LAST-MODIFIED:20200209T180324Z
UID:343-1511295300-1511299800@harvelhashhouseharriers.com
SUMMARY:H4 Club Meeting (AQPU)
DESCRIPTION:
URL:https://harvelhashhouseharriers.com/event/h4-club-meeting-aqpu/
END:VEVENT
BEGIN:VEVENT
DTSTART;TZID=UTC:20171119T090000
DTEND;TZID=UTC:20171119T120000
DTSTAMP:20260421T061209
CREATED:20200209T180321Z
LAST-MODIFIED:20200209T180321Z
UID:342-1511082000-1511092800@harvelhashhouseharriers.com
SUMMARY:Bedgebury Half Marathon
DESCRIPTION:
URL:https://harvelhashhouseharriers.com/event/bedgebury-half-marathon/
END:VEVENT
BEGIN:VEVENT
DTSTART;TZID=UTC:20171119T000000
DTEND;TZID=UTC:20171120T000000
DTSTAMP:20260421T061209
CREATED:20200209T180321Z
LAST-MODIFIED:20200209T180321Z
UID:341-1511049600-1511136000@harvelhashhouseharriers.com
SUMMARY:Marden Half Marathon
DESCRIPTION:
URL:https://harvelhashhouseharriers.com/event/marden-half-marathon/
END:VEVENT
BEGIN:VEVENT
DTSTART;TZID=UTC:20171112T104500
DTEND;TZID=UTC:20171112T131500
DTSTAMP:20260421T061209
CREATED:20200209T180321Z
LAST-MODIFIED:20200209T180321Z
UID:340-1510483500-1510492500@harvelhashhouseharriers.com
SUMMARY:Mash Hash
DESCRIPTION:
URL:https://harvelhashhouseharriers.com/event/mash-hash-11/
END:VEVENT
BEGIN:VEVENT
DTSTART;TZID=UTC:20171111T120000
DTEND;TZID=UTC:20171111T160000
DTSTAMP:20260421T061209
CREATED:20200209T180321Z
LAST-MODIFIED:20200209T180321Z
UID:339-1510401600-1510416000@harvelhashhouseharriers.com
SUMMARY:Poppy Half Marathon
DESCRIPTION:
URL:https://harvelhashhouseharriers.com/event/poppy-half-marathon/
END:VEVENT
BEGIN:VEVENT
DTSTART;TZID=UTC:20171105T110000
DTEND;TZID=UTC:20171105T130000
DTSTAMP:20260421T061209
CREATED:20200209T180321Z
LAST-MODIFIED:20200209T180321Z
UID:338-1509879600-1509886800@harvelhashhouseharriers.com
SUMMARY:H4 Hash
DESCRIPTION:
URL:https://harvelhashhouseharriers.com/event/h4-hash-8/
END:VEVENT
BEGIN:VEVENT
DTSTART;TZID=UTC:20171029T100000
DTEND;TZID=UTC:20171029T120000
DTSTAMP:20260421T061209
CREATED:20200209T180319Z
LAST-MODIFIED:20200209T180319Z
UID:337-1509271200-1509278400@harvelhashhouseharriers.com
SUMMARY:H4 Handicap : Offroad Route
DESCRIPTION:
URL:https://harvelhashhouseharriers.com/event/h4-handicap-offroad-route-4/
END:VEVENT
BEGIN:VEVENT
DTSTART;TZID=UTC:20171028T090000
DTEND;TZID=UTC:20171028T130000
DTSTAMP:20260421T061209
CREATED:20200209T180319Z
LAST-MODIFIED:20200209T180319Z
UID:336-1509181200-1509195600@harvelhashhouseharriers.com
SUMMARY:Beachy Head Marathon
DESCRIPTION:
URL:https://harvelhashhouseharriers.com/event/beachy-head-marathon-2/
END:VEVENT
BEGIN:VEVENT
DTSTART;TZID=UTC:20171020T000000
DTEND;TZID=UTC:20171025T000000
DTSTAMP:20260421T061209
CREATED:20200209T180319Z
LAST-MODIFIED:20200209T180319Z
UID:335-1508457600-1508889600@harvelhashhouseharriers.com
SUMMARY:H4 Away Tour : Bilbao
DESCRIPTION:
URL:https://harvelhashhouseharriers.com/event/h4-away-tour-bilbao/
END:VEVENT
BEGIN:VEVENT
DTSTART;TZID=UTC:20171013T190000
DTEND;TZID=UTC:20171013T220000
DTSTAMP:20260421T061209
CREATED:20200209T180319Z
LAST-MODIFIED:20200209T180319Z
UID:334-1507921200-1507932000@harvelhashhouseharriers.com
SUMMARY:H4 Hash(ish)
DESCRIPTION:
URL:https://harvelhashhouseharriers.com/event/h4-hashish/
END:VEVENT
BEGIN:VEVENT
DTSTART;TZID=UTC:20171007T190000
DTEND;TZID=UTC:20171007T223000
DTSTAMP:20260421T061209
CREATED:20200209T180319Z
LAST-MODIFIED:20200209T180319Z
UID:333-1507402800-1507415400@harvelhashhouseharriers.com
SUMMARY:H4 Quiz
DESCRIPTION:
URL:https://harvelhashhouseharriers.com/event/h4-quiz/
END:VEVENT
BEGIN:VEVENT
DTSTART;TZID=UTC:20170926T190000
DTEND;TZID=UTC:20170926T203000
DTSTAMP:20260421T061209
CREATED:20200209T180316Z
LAST-MODIFIED:20200209T180316Z
UID:332-1506452400-1506457800@harvelhashhouseharriers.com
SUMMARY:H4 Handicap P-Loop
DESCRIPTION:
URL:https://harvelhashhouseharriers.com/event/h4-handicap-p-loop-2/
END:VEVENT
BEGIN:VEVENT
DTSTART;TZID=UTC:20170924T110000
DTEND;TZID=UTC:20170924T130000
DTSTAMP:20260421T061209
CREATED:20200209T180316Z
LAST-MODIFIED:20200209T180316Z
UID:331-1506250800-1506258000@harvelhashhouseharriers.com
SUMMARY:H4 Hash
DESCRIPTION:
URL:https://harvelhashhouseharriers.com/event/h4-hash-7/
END:VEVENT
BEGIN:VEVENT
DTSTART;TZID=UTC:20170923T193000
DTEND;TZID=UTC:20170923T220000
DTSTAMP:20260421T061209
CREATED:20200209T180316Z
LAST-MODIFIED:20200209T180316Z
UID:330-1506195000-1506204000@harvelhashhouseharriers.com
SUMMARY:H4 Quiz Night
DESCRIPTION:
URL:https://harvelhashhouseharriers.com/event/h4-quiz-night-2/
END:VEVENT
BEGIN:VEVENT
DTSTART;TZID=UTC:20170921T190000
DTEND;TZID=UTC:20170921T210000
DTSTAMP:20260421T061209
CREATED:20200209T180316Z
LAST-MODIFIED:20200209T180316Z
UID:329-1506020400-1506027600@harvelhashhouseharriers.com
SUMMARY:H4 Equinox Hash
DESCRIPTION:
URL:https://harvelhashhouseharriers.com/event/h4-equinox-hash/
END:VEVENT
END:VCALENDAR