BEGIN:VCALENDAR
VERSION:2.0
PRODID:-//Harvel Hash House Harriers - ECPv6.15.15//NONSGML v1.0//EN
CALSCALE:GREGORIAN
METHOD:PUBLISH
X-WR-CALNAME:Harvel Hash House Harriers
X-ORIGINAL-URL:https://harvelhashhouseharriers.com
X-WR-CALDESC:Events for Harvel Hash House Harriers
REFRESH-INTERVAL;VALUE=DURATION:PT1H
X-Robots-Tag:noindex
X-PUBLISHED-TTL:PT1H
BEGIN:VTIMEZONE
TZID:UTC
BEGIN:STANDARD
TZOFFSETFROM:+0000
TZOFFSETTO:+0000
TZNAME:UTC
DTSTART:20150101T000000
END:STANDARD
END:VTIMEZONE
BEGIN:VEVENT
DTSTART;TZID=UTC:20170315T190000
DTEND;TZID=UTC:20170315T201500
DTSTAMP:20260421T133304
CREATED:20200209T180249Z
LAST-MODIFIED:20200209T180249Z
UID:298-1489604400-1489608900@harvelhashhouseharriers.com
SUMMARY:Yoga 4 Runners
DESCRIPTION:
URL:https://harvelhashhouseharriers.com/event/yoga-4-runners-6/
END:VEVENT
BEGIN:VEVENT
DTSTART;TZID=UTC:20170314T200000
DTEND;TZID=UTC:20170314T213000
DTSTAMP:20260421T133304
CREATED:20200209T180245Z
LAST-MODIFIED:20200209T180245Z
UID:297-1489521600-1489527000@harvelhashhouseharriers.com
SUMMARY:H4 AGM
DESCRIPTION:
URL:https://harvelhashhouseharriers.com/event/h4-agm/
END:VEVENT
BEGIN:VEVENT
DTSTART;TZID=UTC:20170312T093000
DTEND;TZID=UTC:20170312T110000
DTSTAMP:20260421T133304
CREATED:20200209T180245Z
LAST-MODIFIED:20200209T180245Z
UID:296-1489311000-1489316400@harvelhashhouseharriers.com
SUMMARY:Dartford Half Marathon
DESCRIPTION:
URL:https://harvelhashhouseharriers.com/event/dartford-half-marathon/
END:VEVENT
BEGIN:VEVENT
DTSTART;TZID=UTC:20170302T193000
DTEND;TZID=UTC:20170302T203000
DTSTAMP:20260421T133304
CREATED:20200209T180245Z
LAST-MODIFIED:20200209T180245Z
UID:295-1488483000-1488486600@harvelhashhouseharriers.com
SUMMARY:Gravesend Cyclopark 10K Series
DESCRIPTION:
URL:https://harvelhashhouseharriers.com/event/gravesend-cyclopark-10k-series/
END:VEVENT
BEGIN:VEVENT
DTSTART;TZID=UTC:20170226T100000
DTEND;TZID=UTC:20170226T120000
DTSTAMP:20260421T133304
CREATED:20200209T180245Z
LAST-MODIFIED:20200209T180245Z
UID:294-1488103200-1488110400@harvelhashhouseharriers.com
SUMMARY:H4 Handicap: P-Loop
DESCRIPTION:
URL:https://harvelhashhouseharriers.com/event/h4-handicap-p-loop/
END:VEVENT
BEGIN:VEVENT
DTSTART;TZID=UTC:20170223T193000
DTEND;TZID=UTC:20170223T223000
DTSTAMP:20260421T133304
CREATED:20200209T180244Z
LAST-MODIFIED:20200209T180244Z
UID:293-1487878200-1487889000@harvelhashhouseharriers.com
SUMMARY:Fun Quiz Night + Fish & Chip Supper
DESCRIPTION:
URL:https://harvelhashhouseharriers.com/event/fun-quiz-night-fish-chip-supper/
END:VEVENT
BEGIN:VEVENT
DTSTART;TZID=UTC:20170219T090000
DTEND;TZID=UTC:20170219T120000
DTSTAMP:20260421T133304
CREATED:20200209T180217Z
LAST-MODIFIED:20200209T180217Z
UID:291-1487494800-1487505600@harvelhashhouseharriers.com
SUMMARY:Tunbridge Wells Half Marathon
DESCRIPTION:
URL:https://harvelhashhouseharriers.com/event/tunbridge-wells-half-marathon-3/
END:VEVENT
BEGIN:VEVENT
DTSTART;TZID=UTC:20170215T190000
DTEND;TZID=UTC:20170215T201500
DTSTAMP:20260421T133304
CREATED:20200209T180217Z
LAST-MODIFIED:20200209T180217Z
UID:290-1487185200-1487189700@harvelhashhouseharriers.com
SUMMARY:Yoga 4 Runners
DESCRIPTION:
URL:https://harvelhashhouseharriers.com/event/yoga-4-runners-5/
END:VEVENT
BEGIN:VEVENT
DTSTART;TZID=UTC:20170212T100000
DTEND;TZID=UTC:20170212T120000
DTSTAMP:20260421T133304
CREATED:20200209T180217Z
LAST-MODIFIED:20200209T180217Z
UID:289-1486893600-1486900800@harvelhashhouseharriers.com
SUMMARY:Vigo10 - Valentines Run
DESCRIPTION:
URL:https://harvelhashhouseharriers.com/event/vigo10-valentines-run/
END:VEVENT
BEGIN:VEVENT
DTSTART;TZID=UTC:20170211T193000
DTEND;TZID=UTC:20170211T230000
DTSTAMP:20260421T133304
CREATED:20200209T180217Z
LAST-MODIFIED:20200209T180217Z
UID:288-1486841400-1486854000@harvelhashhouseharriers.com
SUMMARY:Valentines Disco
DESCRIPTION:
URL:https://harvelhashhouseharriers.com/event/valentines-disco/
END:VEVENT
BEGIN:VEVENT
DTSTART;TZID=UTC:20170205T110000
DTEND;TZID=UTC:20170205T130000
DTSTAMP:20260421T133304
CREATED:20200209T180217Z
LAST-MODIFIED:20200209T180217Z
UID:287-1486292400-1486299600@harvelhashhouseharriers.com
SUMMARY:H4 Hangover Hash
DESCRIPTION:
URL:https://harvelhashhouseharriers.com/event/h4-hangover-hash/
END:VEVENT
BEGIN:VEVENT
DTSTART;TZID=UTC:20170204T180000
DTEND;TZID=UTC:20170204T233000
DTSTAMP:20260421T133304
CREATED:20200209T180214Z
LAST-MODIFIED:20200209T180214Z
UID:286-1486231200-1486251000@harvelhashhouseharriers.com
SUMMARY:H4 Dinner Dance
DESCRIPTION:
URL:https://harvelhashhouseharriers.com/event/h4-dinner-dance-2/
END:VEVENT
BEGIN:VEVENT
DTSTART;TZID=UTC:20170202T193000
DTEND;TZID=UTC:20170202T203000
DTSTAMP:20260421T133304
CREATED:20200209T180214Z
LAST-MODIFIED:20200209T180214Z
UID:285-1486063800-1486067400@harvelhashhouseharriers.com
SUMMARY:Gravesend Cyclopark 10k race series
DESCRIPTION:
URL:https://harvelhashhouseharriers.com/event/gravesend-cyclopark-10k-race-series/
END:VEVENT
BEGIN:VEVENT
DTSTART;TZID=UTC:20170128T190000
DTEND;TZID=UTC:20170128T230000
DTSTAMP:20260421T133304
CREATED:20200209T180214Z
LAST-MODIFIED:20200209T180214Z
UID:284-1485630000-1485644400@harvelhashhouseharriers.com
SUMMARY:Hungarian Night
DESCRIPTION:
URL:https://harvelhashhouseharriers.com/event/hungarian-night/
END:VEVENT
BEGIN:VEVENT
DTSTART;TZID=UTC:20170121T190000
DTEND;TZID=UTC:20170121T230000
DTSTAMP:20260421T133304
CREATED:20200209T180213Z
LAST-MODIFIED:20200209T180213Z
UID:283-1485025200-1485039600@harvelhashhouseharriers.com
SUMMARY:Charity Race Night
DESCRIPTION:
URL:https://harvelhashhouseharriers.com/event/charity-race-night/
END:VEVENT
BEGIN:VEVENT
DTSTART;TZID=UTC:20170118T190000
DTEND;TZID=UTC:20170118T201500
DTSTAMP:20260421T133304
CREATED:20200209T180213Z
LAST-MODIFIED:20200209T180213Z
UID:282-1484766000-1484770500@harvelhashhouseharriers.com
SUMMARY:Yoga 4 Runners
DESCRIPTION:
URL:https://harvelhashhouseharriers.com/event/yoga-4-runners-4/
END:VEVENT
BEGIN:VEVENT
DTSTART;TZID=UTC:20170108T110000
DTEND;TZID=UTC:20170108T130000
DTSTAMP:20260421T133304
CREATED:20200209T180213Z
LAST-MODIFIED:20200209T180213Z
UID:281-1483873200-1483880400@harvelhashhouseharriers.com
SUMMARY:H4 Hash
DESCRIPTION:
URL:https://harvelhashhouseharriers.com/event/h4-hash-4/
END:VEVENT
BEGIN:VEVENT
DTSTART;TZID=UTC:20161218T110000
DTEND;TZID=UTC:20161218T160000
DTSTAMP:20260421T133304
CREATED:20200209T180213Z
LAST-MODIFIED:20200209T180213Z
UID:280-1482058800-1482076800@harvelhashhouseharriers.com
SUMMARY:H4 Santa Hash
DESCRIPTION:
URL:https://harvelhashhouseharriers.com/event/h4-santa-hash-4/
END:VEVENT
BEGIN:VEVENT
DTSTART;TZID=UTC:20161211T110000
DTEND;TZID=UTC:20161211T120000
DTSTAMP:20260421T133304
CREATED:20200209T180213Z
LAST-MODIFIED:20200209T180213Z
UID:279-1481454000-1481457600@harvelhashhouseharriers.com
SUMMARY:Turkey Run
DESCRIPTION:
URL:https://harvelhashhouseharriers.com/event/turkey-run/
END:VEVENT
BEGIN:VEVENT
DTSTART;TZID=UTC:20161127T100000
DTEND;TZID=UTC:20161127T120000
DTSTAMP:20260421T133304
CREATED:20200209T180213Z
LAST-MODIFIED:20200209T180213Z
UID:278-1480240800-1480248000@harvelhashhouseharriers.com
SUMMARY:Brett Ashford Half Marathon & 10K
DESCRIPTION:
URL:https://harvelhashhouseharriers.com/event/brett-ashford-half-marathon-10k/
END:VEVENT
BEGIN:VEVENT
DTSTART;TZID=UTC:20161120T110000
DTEND;TZID=UTC:20161120T140000
DTSTAMP:20260421T133304
CREATED:20200209T180212Z
LAST-MODIFIED:20200209T180212Z
UID:277-1479639600-1479650400@harvelhashhouseharriers.com
SUMMARY:Great Alpine Expedition Farewell Hash
DESCRIPTION:
URL:https://harvelhashhouseharriers.com/event/great-alpine-expedition-farewell-hash/
END:VEVENT
BEGIN:VEVENT
DTSTART;TZID=UTC:20161119T190000
DTEND;TZID=UTC:20161119T230000
DTSTAMP:20260421T133304
CREATED:20200209T180210Z
LAST-MODIFIED:20200209T180210Z
UID:276-1479582000-1479596400@harvelhashhouseharriers.com
SUMMARY:H4 Quiz Night
DESCRIPTION:
URL:https://harvelhashhouseharriers.com/event/h4-quiz-night/
END:VEVENT
BEGIN:VEVENT
DTSTART;TZID=UTC:20161109T190000
DTEND;TZID=UTC:20161109T201500
DTSTAMP:20260421T133304
CREATED:20200209T180210Z
LAST-MODIFIED:20200209T180210Z
UID:275-1478718000-1478722500@harvelhashhouseharriers.com
SUMMARY:Yoga 4 Runners
DESCRIPTION:
URL:https://harvelhashhouseharriers.com/event/yoga-4-runners-3/
END:VEVENT
BEGIN:VEVENT
DTSTART;TZID=UTC:20161027T190000
DTEND;TZID=UTC:20161027T210000
DTSTAMP:20260421T133304
CREATED:20200209T180210Z
LAST-MODIFIED:20200209T180210Z
UID:274-1477594800-1477602000@harvelhashhouseharriers.com
SUMMARY:Halloween Hash
DESCRIPTION:
URL:https://harvelhashhouseharriers.com/event/halloween-hash-2/
END:VEVENT
BEGIN:VEVENT
DTSTART;TZID=UTC:20161009T104500
DTEND;TZID=UTC:20161009T124500
DTSTAMP:20260421T133304
CREATED:20200209T180210Z
LAST-MODIFIED:20200209T180210Z
UID:273-1476009900-1476017100@harvelhashhouseharriers.com
SUMMARY:H4 Pub Run
DESCRIPTION:
URL:https://harvelhashhouseharriers.com/event/h4-pub-run/
END:VEVENT
BEGIN:VEVENT
DTSTART;TZID=UTC:20161002T100000
DTEND;TZID=UTC:20161002T120000
DTSTAMP:20260421T133304
CREATED:20200209T180210Z
LAST-MODIFIED:20200209T180210Z
UID:272-1475402400-1475409600@harvelhashhouseharriers.com
SUMMARY:H4 Handicap Round #7 (Final)
DESCRIPTION:
URL:https://harvelhashhouseharriers.com/event/h4-handicap-round-7-final/
END:VEVENT
BEGIN:VEVENT
DTSTART;TZID=UTC:20160922T183000
DTEND;TZID=UTC:20160922T210000
DTSTAMP:20260421T133304
CREATED:20200209T180154Z
LAST-MODIFIED:20200209T180154Z
UID:271-1474569000-1474578000@harvelhashhouseharriers.com
SUMMARY:H4 Autumn Equinox Hash
DESCRIPTION:
URL:https://harvelhashhouseharriers.com/event/h4-autumn-equinox-hash/
END:VEVENT
BEGIN:VEVENT
DTSTART;TZID=UTC:20160914T190000
DTEND;TZID=UTC:20160914T201500
DTSTAMP:20260421T133304
CREATED:20200209T180154Z
LAST-MODIFIED:20200209T180154Z
UID:270-1473879600-1473884100@harvelhashhouseharriers.com
SUMMARY:Yoga 4 Runners
DESCRIPTION:
URL:https://harvelhashhouseharriers.com/event/yoga-4-runners-2/
END:VEVENT
BEGIN:VEVENT
DTSTART;TZID=UTC:20160911T110000
DTEND;TZID=UTC:20160911T130000
DTSTAMP:20260421T133304
CREATED:20200209T180154Z
LAST-MODIFIED:20200209T180154Z
UID:269-1473591600-1473598800@harvelhashhouseharriers.com
SUMMARY:MASH HASH
DESCRIPTION:
URL:https://harvelhashhouseharriers.com/event/mash-hash-10/
END:VEVENT
BEGIN:VEVENT
DTSTART;TZID=UTC:20160906T190000
DTEND;TZID=UTC:20160906T203000
DTSTAMP:20260421T133304
CREATED:20200209T180154Z
LAST-MODIFIED:20200209T180154Z
UID:268-1473188400-1473193800@harvelhashhouseharriers.com
SUMMARY:H4 Handicap Round #6
DESCRIPTION:
URL:https://harvelhashhouseharriers.com/event/h4-handicap-round-6-4/
END:VEVENT
END:VCALENDAR