BEGIN:VCALENDAR
VERSION:2.0
PRODID:-//Harvel Hash House Harriers - ECPv6.15.15//NONSGML v1.0//EN
CALSCALE:GREGORIAN
METHOD:PUBLISH
X-ORIGINAL-URL:https://harvelhashhouseharriers.com
X-WR-CALDESC:Events for Harvel Hash House Harriers
REFRESH-INTERVAL;VALUE=DURATION:PT1H
X-Robots-Tag:noindex
X-PUBLISHED-TTL:PT1H
BEGIN:VTIMEZONE
TZID:UTC
BEGIN:STANDARD
TZOFFSETFROM:+0000
TZOFFSETTO:+0000
TZNAME:UTC
DTSTART:20140101T000000
END:STANDARD
END:VTIMEZONE
BEGIN:VEVENT
DTSTART;TZID=UTC:20160706T190000
DTEND;TZID=UTC:20160706T201500
DTSTAMP:20260421T173851
CREATED:20200209T180150Z
LAST-MODIFIED:20200209T180150Z
UID:261-1467831600-1467836100@harvelhashhouseharriers.com
SUMMARY:Yoga 4 Runners
DESCRIPTION:
URL:https://harvelhashhouseharriers.com/event/yoga-4-runners/
END:VEVENT
BEGIN:VEVENT
DTSTART;TZID=UTC:20160705T190000
DTEND;TZID=UTC:20160705T203000
DTSTAMP:20260421T173851
CREATED:20200209T180150Z
LAST-MODIFIED:20200209T180150Z
UID:260-1467745200-1467750600@harvelhashhouseharriers.com
SUMMARY:H4 Handicap Round #4
DESCRIPTION:
URL:https://harvelhashhouseharriers.com/event/h4-handicap-round-4-2/
END:VEVENT
BEGIN:VEVENT
DTSTART;TZID=UTC:20160626T100000
DTEND;TZID=UTC:20160626T130000
DTSTAMP:20260421T173851
CREATED:20200209T180150Z
LAST-MODIFIED:20200209T180150Z
UID:259-1466935200-1466946000@harvelhashhouseharriers.com
SUMMARY:North Downs Run
DESCRIPTION:
URL:https://harvelhashhouseharriers.com/event/north-downs-run-3/
END:VEVENT
BEGIN:VEVENT
DTSTART;TZID=UTC:20160617T180000
DTEND;TZID=UTC:20160617T210000
DTSTAMP:20260421T173851
CREATED:20200209T180150Z
LAST-MODIFIED:20200209T180150Z
UID:258-1466186400-1466197200@harvelhashhouseharriers.com
SUMMARY:H4 Cricket vs Vigo Runners
DESCRIPTION:
URL:https://harvelhashhouseharriers.com/event/h4-cricket-vs-vigo-runners/
END:VEVENT
BEGIN:VEVENT
DTSTART;TZID=UTC:20160607T190000
DTEND;TZID=UTC:20160607T203000
DTSTAMP:20260421T173851
CREATED:20200209T180150Z
LAST-MODIFIED:20200209T180150Z
UID:257-1465326000-1465331400@harvelhashhouseharriers.com
SUMMARY:H4 Handicap Round #3
DESCRIPTION:
URL:https://harvelhashhouseharriers.com/event/h4-handicap-round-3-2/
END:VEVENT
BEGIN:VEVENT
DTSTART;TZID=UTC:20160517T200000
DTEND;TZID=UTC:20160517T210000
DTSTAMP:20260421T173851
CREATED:20200209T180136Z
LAST-MODIFIED:20200209T180136Z
UID:256-1463515200-1463518800@harvelhashhouseharriers.com
SUMMARY:Harvel 5 Club Meeting
DESCRIPTION:
URL:https://harvelhashhouseharriers.com/event/harvel-5-club-meeting/
END:VEVENT
BEGIN:VEVENT
DTSTART;TZID=UTC:20160510T190000
DTEND;TZID=UTC:20160510T203000
DTSTAMP:20260421T173851
CREATED:20200209T180136Z
LAST-MODIFIED:20200209T180136Z
UID:255-1462906800-1462912200@harvelhashhouseharriers.com
SUMMARY:H4 Handicap Round #2
DESCRIPTION:
URL:https://harvelhashhouseharriers.com/event/h4-handicap-round-2-2/
END:VEVENT
BEGIN:VEVENT
DTSTART;TZID=UTC:20160505T193000
DTEND;TZID=UTC:20160505T210000
DTSTAMP:20260421T173851
CREATED:20200209T180136Z
LAST-MODIFIED:20200209T180136Z
UID:254-1462476600-1462482000@harvelhashhouseharriers.com
SUMMARY:H5 Committee Meeting
DESCRIPTION:
URL:https://harvelhashhouseharriers.com/event/h5-committee-meeting/
END:VEVENT
BEGIN:VEVENT
DTSTART;TZID=UTC:20160424T090000
DTEND;TZID=UTC:20160424T120000
DTSTAMP:20260421T173851
CREATED:20200209T180136Z
LAST-MODIFIED:20200209T180136Z
UID:253-1461488400-1461499200@harvelhashhouseharriers.com
SUMMARY:London Marathon
DESCRIPTION:
URL:https://harvelhashhouseharriers.com/event/london-marathon-2/
END:VEVENT
BEGIN:VEVENT
DTSTART;TZID=UTC:20160417T090000
DTEND;TZID=UTC:20160417T120000
DTSTAMP:20260421T173851
CREATED:20200209T180136Z
LAST-MODIFIED:20200209T180136Z
UID:252-1460883600-1460894400@harvelhashhouseharriers.com
SUMMARY:Fuller's Thames Towpath 10
DESCRIPTION:
URL:https://harvelhashhouseharriers.com/event/fullers-thames-towpath-10/
END:VEVENT
BEGIN:VEVENT
DTSTART;TZID=UTC:20160417T083000
DTEND;TZID=UTC:20160417T100000
DTSTAMP:20260421T173851
CREATED:20200209T180130Z
LAST-MODIFIED:20200209T180130Z
UID:251-1460881800-1460887200@harvelhashhouseharriers.com
SUMMARY:Darent Valley 10K
DESCRIPTION:
URL:https://harvelhashhouseharriers.com/event/darent-valley-10k-2/
END:VEVENT
BEGIN:VEVENT
DTSTART;TZID=UTC:20160412T190000
DTEND;TZID=UTC:20160412T203000
DTSTAMP:20260421T173851
CREATED:20200209T180130Z
LAST-MODIFIED:20200209T180130Z
UID:250-1460487600-1460493000@harvelhashhouseharriers.com
SUMMARY:H4 Handicap Round #1
DESCRIPTION:
URL:https://harvelhashhouseharriers.com/event/h4-handicap-round-1-2/
END:VEVENT
BEGIN:VEVENT
DTSTART;TZID=UTC:20160403T093000
DTEND;TZID=UTC:20160403T113000
DTSTAMP:20260421T173851
CREATED:20200209T180130Z
LAST-MODIFIED:20200209T180130Z
UID:249-1459675800-1459683000@harvelhashhouseharriers.com
SUMMARY:Paddock Wood Half Marathon
DESCRIPTION:
URL:https://harvelhashhouseharriers.com/event/paddock-wood-half-marathon-3/
END:VEVENT
BEGIN:VEVENT
DTSTART;TZID=UTC:20160401T190000
DTEND;TZID=UTC:20160401T230000
DTSTAMP:20260421T173851
CREATED:20200209T180130Z
LAST-MODIFIED:20200209T180130Z
UID:248-1459537200-1459551600@harvelhashhouseharriers.com
SUMMARY:H4 Night Out
DESCRIPTION:
URL:https://harvelhashhouseharriers.com/event/h4-night-out/
END:VEVENT
BEGIN:VEVENT
DTSTART;TZID=UTC:20160320T110000
DTEND;TZID=UTC:20160320T130000
DTSTAMP:20260421T173851
CREATED:20200209T180130Z
LAST-MODIFIED:20200209T180130Z
UID:247-1458471600-1458478800@harvelhashhouseharriers.com
SUMMARY:H4 Hash *Shoreham*
DESCRIPTION:
URL:https://harvelhashhouseharriers.com/event/h4-hash-shoreham/
END:VEVENT
BEGIN:VEVENT
DTSTART;TZID=UTC:20160320T103000
DTEND;TZID=UTC:20160320T123000
DTSTAMP:20260421T173851
CREATED:20200209T180127Z
LAST-MODIFIED:20200209T180127Z
UID:246-1458469800-1458477000@harvelhashhouseharriers.com
SUMMARY:Hastings Half Marathon
DESCRIPTION:
URL:https://harvelhashhouseharriers.com/event/hastings-half-marathon-2/
END:VEVENT
BEGIN:VEVENT
DTSTART;TZID=UTC:20160319T190000
DTEND;TZID=UTC:20160319T220000
DTSTAMP:20260421T173851
CREATED:20200209T180127Z
LAST-MODIFIED:20200209T180127Z
UID:245-1458414000-1458424800@harvelhashhouseharriers.com
SUMMARY:H4 Charity Quiz Night
DESCRIPTION:
URL:https://harvelhashhouseharriers.com/event/h4-charity-quiz-night/
END:VEVENT
BEGIN:VEVENT
DTSTART;TZID=UTC:20160305T093000
DTEND;TZID=UTC:20160305T120000
DTSTAMP:20260421T173851
CREATED:20200209T180127Z
LAST-MODIFIED:20200209T180127Z
UID:244-1457170200-1457179200@harvelhashhouseharriers.com
SUMMARY:Royal Marsdon Charity: My Harvel March
DESCRIPTION:
URL:https://harvelhashhouseharriers.com/event/royal-marsdon-charity-my-harvel-march/
END:VEVENT
BEGIN:VEVENT
DTSTART;TZID=UTC:20160228T083000
DTEND;TZID=UTC:20160228T120000
DTSTAMP:20260421T173851
CREATED:20200209T180127Z
LAST-MODIFIED:20200209T180127Z
UID:243-1456648200-1456660800@harvelhashhouseharriers.com
SUMMARY:H4 Breakfast Hash
DESCRIPTION:
URL:https://harvelhashhouseharriers.com/event/h4-breakfast-hash/
END:VEVENT
BEGIN:VEVENT
DTSTART;TZID=UTC:20160221T090000
DTEND;TZID=UTC:20160221T100000
DTSTAMP:20260421T173851
CREATED:20200209T180127Z
LAST-MODIFIED:20200209T180127Z
UID:242-1456045200-1456048800@harvelhashhouseharriers.com
SUMMARY:Tunbridge Wells Half Marathon
DESCRIPTION:
URL:https://harvelhashhouseharriers.com/event/tunbridge-wells-half-marathon-2/
END:VEVENT
BEGIN:VEVENT
DTSTART;TZID=UTC:20160220T180000
DTEND;TZID=UTC:20160220T235900
DTSTAMP:20260421T173851
CREATED:20200209T180126Z
LAST-MODIFIED:20200209T180126Z
UID:241-1455991200-1456012740@harvelhashhouseharriers.com
SUMMARY:H4 Dinner Dance
DESCRIPTION:
URL:https://harvelhashhouseharriers.com/event/h4-dinner-dance/
END:VEVENT
BEGIN:VEVENT
DTSTART;TZID=UTC:20160107T193000
DTEND;TZID=UTC:20160107T210000
DTSTAMP:20260421T173851
CREATED:20200209T180125Z
LAST-MODIFIED:20200209T180125Z
UID:240-1452195000-1452200400@harvelhashhouseharriers.com
SUMMARY:H4 Outstanding issues fairly quick tackle meet
DESCRIPTION:
URL:https://harvelhashhouseharriers.com/event/h4-outstanding-issues-fairly-quick-tackle-meet/
END:VEVENT
BEGIN:VEVENT
DTSTART;TZID=UTC:20160103T110000
DTEND;TZID=UTC:20160103T140000
DTSTAMP:20260421T173851
CREATED:20200209T180125Z
LAST-MODIFIED:20200209T180125Z
UID:239-1451818800-1451829600@harvelhashhouseharriers.com
SUMMARY:H4 Epiphany Hash
DESCRIPTION:
URL:https://harvelhashhouseharriers.com/event/h4-epiphany-hash/
END:VEVENT
BEGIN:VEVENT
DTSTART;TZID=UTC:20151213T110000
DTEND;TZID=UTC:20151213T150000
DTSTAMP:20260421T173851
CREATED:20200209T180125Z
LAST-MODIFIED:20200209T180125Z
UID:238-1450004400-1450018800@harvelhashhouseharriers.com
SUMMARY:H4 Santa hash
DESCRIPTION:
URL:https://harvelhashhouseharriers.com/event/h4-santa-hash-3/
END:VEVENT
BEGIN:VEVENT
DTSTART;TZID=UTC:20151206T100000
DTEND;TZID=UTC:20151206T113000
DTSTAMP:20260421T173851
CREATED:20200209T180125Z
LAST-MODIFIED:20200209T180125Z
UID:237-1449396000-1449401400@harvelhashhouseharriers.com
SUMMARY:H4 Winter Handicap Round 4
DESCRIPTION:
URL:https://harvelhashhouseharriers.com/event/h4-winter-handicap-round-4/
END:VEVENT
BEGIN:VEVENT
DTSTART;TZID=UTC:20151122T100000
DTEND;TZID=UTC:20151122T113000
DTSTAMP:20260421T173851
CREATED:20200209T180123Z
LAST-MODIFIED:20200209T180123Z
UID:236-1448186400-1448191800@harvelhashhouseharriers.com
SUMMARY:H4 Winter Handicap Round 3
DESCRIPTION:
URL:https://harvelhashhouseharriers.com/event/h4-winter-handicap-round-3/
END:VEVENT
BEGIN:VEVENT
DTSTART;TZID=UTC:20151108T110000
DTEND;TZID=UTC:20151108T140000
DTSTAMP:20260421T173851
CREATED:20200209T180123Z
LAST-MODIFIED:20200209T180123Z
UID:235-1446980400-1446991200@harvelhashhouseharriers.com
SUMMARY:MASH Remembrance Sunday Hash
DESCRIPTION:
URL:https://harvelhashhouseharriers.com/event/mash-remembrance-sunday-hash/
END:VEVENT
BEGIN:VEVENT
DTSTART;TZID=UTC:20151101T100000
DTEND;TZID=UTC:20151101T113000
DTSTAMP:20260421T173851
CREATED:20200209T180123Z
LAST-MODIFIED:20200209T180123Z
UID:234-1446372000-1446377400@harvelhashhouseharriers.com
SUMMARY:H4 Winter Handicap Round 2
DESCRIPTION:
URL:https://harvelhashhouseharriers.com/event/h4-winter-handicap-round-2/
END:VEVENT
BEGIN:VEVENT
DTSTART;TZID=UTC:20151030T190000
DTEND;TZID=UTC:20151030T220000
DTSTAMP:20260421T173851
CREATED:20200209T180123Z
LAST-MODIFIED:20200209T180123Z
UID:233-1446231600-1446242400@harvelhashhouseharriers.com
SUMMARY:H4 Halloween Hash
DESCRIPTION:
URL:https://harvelhashhouseharriers.com/event/h4-halloween-hash/
END:VEVENT
BEGIN:VEVENT
DTSTART;TZID=UTC:20151011T110000
DTEND;TZID=UTC:20151011T140000
DTSTAMP:20260421T173851
CREATED:20200209T180123Z
LAST-MODIFIED:20200209T180123Z
UID:232-1444561200-1444572000@harvelhashhouseharriers.com
SUMMARY:MASH HASH
DESCRIPTION:
URL:https://harvelhashhouseharriers.com/event/mash-hash-9/
END:VEVENT
END:VCALENDAR