BEGIN:VCALENDAR
VERSION:2.0
PRODID:-//Harvel Hash House Harriers - ECPv6.15.15//NONSGML v1.0//EN
CALSCALE:GREGORIAN
METHOD:PUBLISH
X-WR-CALNAME:Harvel Hash House Harriers
X-ORIGINAL-URL:https://harvelhashhouseharriers.com
X-WR-CALDESC:Events for Harvel Hash House Harriers
REFRESH-INTERVAL;VALUE=DURATION:PT1H
X-Robots-Tag:noindex
X-PUBLISHED-TTL:PT1H
BEGIN:VTIMEZONE
TZID:UTC
BEGIN:STANDARD
TZOFFSETFROM:+0000
TZOFFSETTO:+0000
TZNAME:UTC
DTSTART:20140101T000000
END:STANDARD
END:VTIMEZONE
BEGIN:VEVENT
DTSTART;TZID=UTC:20151206T100000
DTEND;TZID=UTC:20151206T113000
DTSTAMP:20260421T202242
CREATED:20200209T180125Z
LAST-MODIFIED:20200209T180125Z
UID:237-1449396000-1449401400@harvelhashhouseharriers.com
SUMMARY:H4 Winter Handicap Round 4
DESCRIPTION:
URL:https://harvelhashhouseharriers.com/event/h4-winter-handicap-round-4/
END:VEVENT
BEGIN:VEVENT
DTSTART;TZID=UTC:20151122T100000
DTEND;TZID=UTC:20151122T113000
DTSTAMP:20260421T202242
CREATED:20200209T180123Z
LAST-MODIFIED:20200209T180123Z
UID:236-1448186400-1448191800@harvelhashhouseharriers.com
SUMMARY:H4 Winter Handicap Round 3
DESCRIPTION:
URL:https://harvelhashhouseharriers.com/event/h4-winter-handicap-round-3/
END:VEVENT
BEGIN:VEVENT
DTSTART;TZID=UTC:20151108T110000
DTEND;TZID=UTC:20151108T140000
DTSTAMP:20260421T202242
CREATED:20200209T180123Z
LAST-MODIFIED:20200209T180123Z
UID:235-1446980400-1446991200@harvelhashhouseharriers.com
SUMMARY:MASH Remembrance Sunday Hash
DESCRIPTION:
URL:https://harvelhashhouseharriers.com/event/mash-remembrance-sunday-hash/
END:VEVENT
BEGIN:VEVENT
DTSTART;TZID=UTC:20151101T100000
DTEND;TZID=UTC:20151101T113000
DTSTAMP:20260421T202242
CREATED:20200209T180123Z
LAST-MODIFIED:20200209T180123Z
UID:234-1446372000-1446377400@harvelhashhouseharriers.com
SUMMARY:H4 Winter Handicap Round 2
DESCRIPTION:
URL:https://harvelhashhouseharriers.com/event/h4-winter-handicap-round-2/
END:VEVENT
BEGIN:VEVENT
DTSTART;TZID=UTC:20151030T190000
DTEND;TZID=UTC:20151030T220000
DTSTAMP:20260421T202242
CREATED:20200209T180123Z
LAST-MODIFIED:20200209T180123Z
UID:233-1446231600-1446242400@harvelhashhouseharriers.com
SUMMARY:H4 Halloween Hash
DESCRIPTION:
URL:https://harvelhashhouseharriers.com/event/h4-halloween-hash/
END:VEVENT
BEGIN:VEVENT
DTSTART;TZID=UTC:20151011T110000
DTEND;TZID=UTC:20151011T140000
DTSTAMP:20260421T202242
CREATED:20200209T180123Z
LAST-MODIFIED:20200209T180123Z
UID:232-1444561200-1444572000@harvelhashhouseharriers.com
SUMMARY:MASH HASH
DESCRIPTION:
URL:https://harvelhashhouseharriers.com/event/mash-hash-9/
END:VEVENT
BEGIN:VEVENT
DTSTART;TZID=UTC:20150927T100000
DTEND;TZID=UTC:20150927T120000
DTSTAMP:20260421T202242
CREATED:20200209T180116Z
LAST-MODIFIED:20200209T180116Z
UID:231-1443348000-1443355200@harvelhashhouseharriers.com
SUMMARY:H4: Lee Valley Rafting
DESCRIPTION:
URL:https://harvelhashhouseharriers.com/event/h4-lee-valley-rafting/
END:VEVENT
BEGIN:VEVENT
DTSTART;TZID=UTC:20150913T110000
DTEND;TZID=UTC:20150913T140000
DTSTAMP:20260421T202242
CREATED:20200209T180116Z
LAST-MODIFIED:20200209T180116Z
UID:230-1442142000-1442152800@harvelhashhouseharriers.com
SUMMARY:MASH HASH
DESCRIPTION:
URL:https://harvelhashhouseharriers.com/event/mash-hash-8/
END:VEVENT
BEGIN:VEVENT
DTSTART;TZID=UTC:20150913T103000
DTEND;TZID=UTC:20150913T130000
DTSTAMP:20260421T202242
CREATED:20200209T180116Z
LAST-MODIFIED:20200209T180116Z
UID:229-1442140200-1442149200@harvelhashhouseharriers.com
SUMMARY:Eridge Park 10
DESCRIPTION:
URL:https://harvelhashhouseharriers.com/event/eridge-park-10-2/
END:VEVENT
BEGIN:VEVENT
DTSTART;TZID=UTC:20150908T190000
DTEND;TZID=UTC:20150908T203000
DTSTAMP:20260421T202242
CREATED:20200209T180116Z
LAST-MODIFIED:20200209T180116Z
UID:228-1441738800-1441744200@harvelhashhouseharriers.com
SUMMARY:H4 Handicap Round 6
DESCRIPTION:
URL:https://harvelhashhouseharriers.com/event/h4-handicap-round-6-3/
END:VEVENT
BEGIN:VEVENT
DTSTART;TZID=UTC:20150906T103000
DTEND;TZID=UTC:20150906T120000
DTSTAMP:20260421T202242
CREATED:20200209T180116Z
LAST-MODIFIED:20200209T180116Z
UID:227-1441535400-1441540800@harvelhashhouseharriers.com
SUMMARY:Weald St Georges10K
DESCRIPTION:
URL:https://harvelhashhouseharriers.com/event/weald-st-georges10k/
END:VEVENT
BEGIN:VEVENT
DTSTART;TZID=UTC:20150905T110000
DTEND;TZID=UTC:20150905T140000
DTSTAMP:20260421T202242
CREATED:20200209T180115Z
LAST-MODIFIED:20200209T180115Z
UID:226-1441450800-1441461600@harvelhashhouseharriers.com
SUMMARY:H4 Hash
DESCRIPTION:
URL:https://harvelhashhouseharriers.com/event/h4-hash-3/
END:VEVENT
BEGIN:VEVENT
DTSTART;TZID=UTC:20150831T103000
DTEND;TZID=UTC:20150831T120000
DTSTAMP:20260421T202242
CREATED:20200209T180115Z
LAST-MODIFIED:20200209T180115Z
UID:225-1441017000-1441022400@harvelhashhouseharriers.com
SUMMARY:Sevenoaks7
DESCRIPTION:
URL:https://harvelhashhouseharriers.com/event/sevenoaks7/
END:VEVENT
BEGIN:VEVENT
DTSTART;TZID=UTC:20150814T180000
DTEND;TZID=UTC:20150814T210000
DTSTAMP:20260421T202242
CREATED:20200209T180115Z
LAST-MODIFIED:20200209T180115Z
UID:224-1439575200-1439586000@harvelhashhouseharriers.com
SUMMARY:Rounders H4 v Vigo Runners
DESCRIPTION:
URL:https://harvelhashhouseharriers.com/event/rounders-h4-v-vigo-runners/
END:VEVENT
BEGIN:VEVENT
DTSTART;TZID=UTC:20150812T100000
DTEND;TZID=UTC:20150812T110000
DTSTAMP:20260421T202242
CREATED:20200209T180114Z
LAST-MODIFIED:20200209T180114Z
UID:223-1439373600-1439377200@harvelhashhouseharriers.com
SUMMARY:Test Event for Veronika
DESCRIPTION:
URL:https://harvelhashhouseharriers.com/event/test-event-for-veronika/
END:VEVENT
BEGIN:VEVENT
DTSTART;TZID=UTC:20150811T190000
DTEND;TZID=UTC:20150811T203000
DTSTAMP:20260421T202242
CREATED:20200209T180114Z
LAST-MODIFIED:20200209T180114Z
UID:222-1439319600-1439325000@harvelhashhouseharriers.com
SUMMARY:H4 Handicap Round 5
DESCRIPTION:
URL:https://harvelhashhouseharriers.com/event/h4-handicap-round-5-3/
END:VEVENT
BEGIN:VEVENT
DTSTART;TZID=UTC:20150809T110000
DTEND;TZID=UTC:20150809T140000
DTSTAMP:20260421T202242
CREATED:20200209T180046Z
LAST-MODIFIED:20200209T180046Z
UID:220-1439118000-1439128800@harvelhashhouseharriers.com
SUMMARY:Impromptu Hawaiian Hangover Hash
DESCRIPTION:
URL:https://harvelhashhouseharriers.com/event/impromptu-hawaiian-hangover-hash/
END:VEVENT
BEGIN:VEVENT
DTSTART;TZID=UTC:20150807T183000
DTEND;TZID=UTC:20150807T210000
DTSTAMP:20260421T202242
CREATED:20200209T180046Z
LAST-MODIFIED:20200209T180046Z
UID:219-1438972200-1438981200@harvelhashhouseharriers.com
SUMMARY:H4 Golding Hop Run
DESCRIPTION:
URL:https://harvelhashhouseharriers.com/event/h4-golding-hop-run/
END:VEVENT
BEGIN:VEVENT
DTSTART;TZID=UTC:20150724T180000
DTEND;TZID=UTC:20150724T210000
DTSTAMP:20260421T202242
CREATED:20200209T180046Z
LAST-MODIFIED:20200209T180046Z
UID:218-1437760800-1437771600@harvelhashhouseharriers.com
SUMMARY:H4 Cricket v New Ifield Jokers
DESCRIPTION:
URL:https://harvelhashhouseharriers.com/event/h4-cricket-v-new-ifield-jokers/
END:VEVENT
BEGIN:VEVENT
DTSTART;TZID=UTC:20150714T190000
DTEND;TZID=UTC:20150714T203000
DTSTAMP:20260421T202242
CREATED:20200209T180046Z
LAST-MODIFIED:20200209T180046Z
UID:217-1436900400-1436905800@harvelhashhouseharriers.com
SUMMARY:H4 Handicap Round4
DESCRIPTION:
URL:https://harvelhashhouseharriers.com/event/h4-handicap-round4/
END:VEVENT
BEGIN:VEVENT
DTSTART;TZID=UTC:20150712T110000
DTEND;TZID=UTC:20150712T140000
DTSTAMP:20260421T202242
CREATED:20200209T180046Z
LAST-MODIFIED:20200209T180046Z
UID:216-1436698800-1436709600@harvelhashhouseharriers.com
SUMMARY:MASH HASH
DESCRIPTION:
URL:https://harvelhashhouseharriers.com/event/mash-hash-7/
END:VEVENT
BEGIN:VEVENT
DTSTART;TZID=UTC:20150705T110000
DTEND;TZID=UTC:20150705T140000
DTSTAMP:20260421T202242
CREATED:20200209T175116Z
LAST-MODIFIED:20200209T175116Z
UID:208-1436094000-1436104800@harvelhashhouseharriers.com
SUMMARY:H4 Red Dress Hash
DESCRIPTION:
URL:https://harvelhashhouseharriers.com/event/h4-red-dress-hash-2/
END:VEVENT
BEGIN:VEVENT
DTSTART;TZID=UTC:20150628T103000
DTEND;TZID=UTC:20150628T130000
DTSTAMP:20260421T202242
CREATED:20200209T175116Z
LAST-MODIFIED:20200209T175116Z
UID:207-1435487400-1435496400@harvelhashhouseharriers.com
SUMMARY:North Downs Run
DESCRIPTION:
URL:https://harvelhashhouseharriers.com/event/north-downs-run-2/
END:VEVENT
BEGIN:VEVENT
DTSTART;TZID=UTC:20150626T180000
DTEND;TZID=UTC:20150626T210000
DTSTAMP:20260421T202242
CREATED:20200209T175116Z
LAST-MODIFIED:20200209T175116Z
UID:206-1435341600-1435352400@harvelhashhouseharriers.com
SUMMARY:H4 Cricket v Vigo Runners
DESCRIPTION:
URL:https://harvelhashhouseharriers.com/event/h4-cricket-v-vigo-runners/
END:VEVENT
BEGIN:VEVENT
DTSTART;TZID=UTC:20150609T190000
DTEND;TZID=UTC:20150609T203000
DTSTAMP:20260421T202242
CREATED:20200209T175116Z
LAST-MODIFIED:20200209T175116Z
UID:205-1433876400-1433881800@harvelhashhouseharriers.com
SUMMARY:H4 Handicap Round3
DESCRIPTION:
URL:https://harvelhashhouseharriers.com/event/h4-handicap-round3/
END:VEVENT
BEGIN:VEVENT
DTSTART;TZID=UTC:20150512T190000
DTEND;TZID=UTC:20150512T203000
DTSTAMP:20260421T202242
CREATED:20200209T175116Z
LAST-MODIFIED:20200209T175116Z
UID:204-1431457200-1431462600@harvelhashhouseharriers.com
SUMMARY:H4 Handicap Round2
DESCRIPTION:
URL:https://harvelhashhouseharriers.com/event/h4-handicap-round2/
END:VEVENT
BEGIN:VEVENT
DTSTART;TZID=UTC:20150510T110000
DTEND;TZID=UTC:20150510T140000
DTSTAMP:20260421T202242
CREATED:20200209T175115Z
LAST-MODIFIED:20200209T175115Z
UID:203-1431255600-1431266400@harvelhashhouseharriers.com
SUMMARY:MASH HASH
DESCRIPTION:
URL:https://harvelhashhouseharriers.com/event/mash-hash-6/
END:VEVENT
BEGIN:VEVENT
DTSTART;TZID=UTC:20150510T100000
DTEND;TZID=UTC:20150510T110000
DTSTAMP:20260421T202242
CREATED:20200209T175115Z
LAST-MODIFIED:20200209T175115Z
UID:202-1431252000-1431255600@harvelhashhouseharriers.com
SUMMARY:Larkfield 10K
DESCRIPTION:
URL:https://harvelhashhouseharriers.com/event/larkfield-10k/
END:VEVENT
BEGIN:VEVENT
DTSTART;TZID=UTC:20150504T110000
DTEND;TZID=UTC:20150504T130000
DTSTAMP:20260421T202242
CREATED:20200209T175115Z
LAST-MODIFIED:20200209T175115Z
UID:201-1430737200-1430744400@harvelhashhouseharriers.com
SUMMARY:Whitstable 10K
DESCRIPTION:
URL:https://harvelhashhouseharriers.com/event/whitstable-10k/
END:VEVENT
BEGIN:VEVENT
DTSTART;TZID=UTC:20150503T110000
DTEND;TZID=UTC:20150503T140000
DTSTAMP:20260421T202242
CREATED:20200209T175115Z
LAST-MODIFIED:20200209T175115Z
UID:200-1430650800-1430661600@harvelhashhouseharriers.com
SUMMARY:H4 Bluebell Hash
DESCRIPTION:
URL:https://harvelhashhouseharriers.com/event/h4-bluebell-hash-2/
END:VEVENT
END:VCALENDAR