BEGIN:VCALENDAR
VERSION:2.0
PRODID:-//Harvel Hash House Harriers - ECPv6.15.15//NONSGML v1.0//EN
CALSCALE:GREGORIAN
METHOD:PUBLISH
X-WR-CALNAME:Harvel Hash House Harriers
X-ORIGINAL-URL:https://harvelhashhouseharriers.com
X-WR-CALDESC:Events for Harvel Hash House Harriers
REFRESH-INTERVAL;VALUE=DURATION:PT1H
X-Robots-Tag:noindex
X-PUBLISHED-TTL:PT1H
BEGIN:VTIMEZONE
TZID:UTC
BEGIN:STANDARD
TZOFFSETFROM:+0000
TZOFFSETTO:+0000
TZNAME:UTC
DTSTART:20130101T000000
END:STANDARD
END:VTIMEZONE
BEGIN:VEVENT
DTSTART;TZID=UTC:20150322T103000
DTEND;TZID=UTC:20150322T143000
DTSTAMP:20260422T005819
CREATED:20200209T175114Z
LAST-MODIFIED:20200209T175114Z
UID:193-1427020200-1427034600@harvelhashhouseharriers.com
SUMMARY:Hastings Half Marathon
DESCRIPTION:
URL:https://harvelhashhouseharriers.com/event/hastings-half-marathon/
END:VEVENT
BEGIN:VEVENT
DTSTART;TZID=UTC:20150308T110000
DTEND;TZID=UTC:20150308T140000
DTSTAMP:20260422T005819
CREATED:20200209T175113Z
LAST-MODIFIED:20200209T175113Z
UID:192-1425812400-1425823200@harvelhashhouseharriers.com
SUMMARY:MASH HASH
DESCRIPTION:
URL:https://harvelhashhouseharriers.com/event/mash-hash-4/
END:VEVENT
BEGIN:VEVENT
DTSTART;TZID=UTC:20150301T110000
DTEND;TZID=UTC:20150301T140000
DTSTAMP:20260422T005819
CREATED:20200209T175113Z
LAST-MODIFIED:20200209T175113Z
UID:191-1425207600-1425218400@harvelhashhouseharriers.com
SUMMARY:H4 Hash: Who's Wally
DESCRIPTION:
URL:https://harvelhashhouseharriers.com/event/h4-hash-whos-wally/
END:VEVENT
BEGIN:VEVENT
DTSTART;TZID=UTC:20150301T103000
DTEND;TZID=UTC:20150301T123000
DTSTAMP:20260422T005819
CREATED:20200209T175113Z
LAST-MODIFIED:20200209T175113Z
UID:190-1425205800-1425213000@harvelhashhouseharriers.com
SUMMARY:BHF Brands Hatch Half Marathon & 10K
DESCRIPTION:
URL:https://harvelhashhouseharriers.com/event/bhf-brands-hatch-half-marathon-10k/
END:VEVENT
BEGIN:VEVENT
DTSTART;TZID=UTC:20150222T090000
DTEND;TZID=UTC:20150222T130000
DTSTAMP:20260422T005819
CREATED:20200209T175113Z
LAST-MODIFIED:20200209T175113Z
UID:189-1424595600-1424610000@harvelhashhouseharriers.com
SUMMARY:Tun Wells Half Marathon
DESCRIPTION:
URL:https://harvelhashhouseharriers.com/event/tun-wells-half-marathon/
END:VEVENT
BEGIN:VEVENT
DTSTART;TZID=UTC:20150215T103000
DTEND;TZID=UTC:20150215T120000
DTSTAMP:20260422T005819
CREATED:20200209T175113Z
LAST-MODIFIED:20200209T175113Z
UID:188-1423996200-1424001600@harvelhashhouseharriers.com
SUMMARY:Valentines Run
DESCRIPTION:
URL:https://harvelhashhouseharriers.com/event/valentines-run-2/
END:VEVENT
BEGIN:VEVENT
DTSTART;TZID=UTC:20150208T110000
DTEND;TZID=UTC:20150208T140000
DTSTAMP:20260422T005819
CREATED:20200209T175113Z
LAST-MODIFIED:20200209T175113Z
UID:187-1423393200-1423404000@harvelhashhouseharriers.com
SUMMARY:MASH HASH
DESCRIPTION:
URL:https://harvelhashhouseharriers.com/event/mash-hash-3/
END:VEVENT
BEGIN:VEVENT
DTSTART;TZID=UTC:20150124T180000
DTEND;TZID=UTC:20150124T235900
DTSTAMP:20260422T005819
CREATED:20200209T175113Z
LAST-MODIFIED:20200209T175113Z
UID:186-1422122400-1422143940@harvelhashhouseharriers.com
SUMMARY:H4 Annual Dinner Dance
DESCRIPTION:
URL:https://harvelhashhouseharriers.com/event/h4-annual-dinner-dance-2/
END:VEVENT
BEGIN:VEVENT
DTSTART;TZID=UTC:20150111T110000
DTEND;TZID=UTC:20150111T140000
DTSTAMP:20260422T005819
CREATED:20200209T175112Z
LAST-MODIFIED:20200209T175112Z
UID:185-1420974000-1420984800@harvelhashhouseharriers.com
SUMMARY:MASH HASH
DESCRIPTION:
URL:https://harvelhashhouseharriers.com/event/mash-hash-2/
END:VEVENT
BEGIN:VEVENT
DTSTART;TZID=UTC:20150104T110000
DTEND;TZID=UTC:20150104T130000
DTSTAMP:20260422T005819
CREATED:20200209T175112Z
LAST-MODIFIED:20200209T175112Z
UID:184-1420369200-1420376400@harvelhashhouseharriers.com
SUMMARY:H4 Hash
DESCRIPTION:
URL:https://harvelhashhouseharriers.com/event/h4-hash-2/
END:VEVENT
BEGIN:VEVENT
DTSTART;TZID=UTC:20141214T110000
DTEND;TZID=UTC:20141214T143000
DTSTAMP:20260422T005819
CREATED:20200209T175112Z
LAST-MODIFIED:20200209T175112Z
UID:183-1418554800-1418567400@harvelhashhouseharriers.com
SUMMARY:H4 Santa Hash
DESCRIPTION:
URL:https://harvelhashhouseharriers.com/event/h4-santa-hash-2/
END:VEVENT
BEGIN:VEVENT
DTSTART;TZID=UTC:20141207T110000
DTEND;TZID=UTC:20141207T130000
DTSTAMP:20260422T005819
CREATED:20200209T175112Z
LAST-MODIFIED:20200209T175112Z
UID:182-1417950000-1417957200@harvelhashhouseharriers.com
SUMMARY:Maidstone Harriers 22nd Turkey Run
DESCRIPTION:
URL:https://harvelhashhouseharriers.com/event/maidstone-harriers-22nd-turkey-run/
END:VEVENT
BEGIN:VEVENT
DTSTART;TZID=UTC:20141207T100000
DTEND;TZID=UTC:20141207T110000
DTSTAMP:20260422T005819
CREATED:20200209T175112Z
LAST-MODIFIED:20200209T175112Z
UID:181-1417946400-1417950000@harvelhashhouseharriers.com
SUMMARY:H4 Handicap Round #6
DESCRIPTION:
URL:https://harvelhashhouseharriers.com/event/h4-handicap-round-6-2/
END:VEVENT
BEGIN:VEVENT
DTSTART;TZID=UTC:20141123T000000
DTEND;TZID=UTC:20141124T000000
DTSTAMP:20260422T005819
CREATED:20200209T175112Z
LAST-MODIFIED:20200209T175112Z
UID:180-1416700800-1416787200@harvelhashhouseharriers.com
SUMMARY:Mash Hash
DESCRIPTION:
URL:https://harvelhashhouseharriers.com/event/mash-hash/
END:VEVENT
BEGIN:VEVENT
DTSTART;TZID=UTC:20141116T100000
DTEND;TZID=UTC:20141116T140000
DTSTAMP:20260422T005819
CREATED:20200209T175112Z
LAST-MODIFIED:20200209T175112Z
UID:179-1416132000-1416146400@harvelhashhouseharriers.com
SUMMARY:Valencia Marathon
DESCRIPTION:
URL:https://harvelhashhouseharriers.com/event/valencia-marathon/
END:VEVENT
BEGIN:VEVENT
DTSTART;TZID=UTC:20141025T090000
DTEND;TZID=UTC:20141025T140000
DTSTAMP:20260422T005819
CREATED:20200209T175111Z
LAST-MODIFIED:20200209T175111Z
UID:178-1414227600-1414245600@harvelhashhouseharriers.com
SUMMARY:Beachy Head Marathon & 10K
DESCRIPTION:
URL:https://harvelhashhouseharriers.com/event/beachy-head-marathon-10k/
END:VEVENT
BEGIN:VEVENT
DTSTART;TZID=UTC:20141005T100000
DTEND;TZID=UTC:20141005T120000
DTSTAMP:20260422T005819
CREATED:20200209T175111Z
LAST-MODIFIED:20200209T175111Z
UID:177-1412503200-1412510400@harvelhashhouseharriers.com
SUMMARY:H4 Handicap Round #5
DESCRIPTION:
URL:https://harvelhashhouseharriers.com/event/h4-handicap-round-5-2/
END:VEVENT
BEGIN:VEVENT
DTSTART;TZID=UTC:20140914T100000
DTEND;TZID=UTC:20140914T140000
DTSTAMP:20260422T005819
CREATED:20200209T175111Z
LAST-MODIFIED:20200209T175111Z
UID:176-1410688800-1410703200@harvelhashhouseharriers.com
SUMMARY:In Flanders Fields Marathon
DESCRIPTION:
URL:https://harvelhashhouseharriers.com/event/in-flanders-fields-marathon/
END:VEVENT
BEGIN:VEVENT
DTSTART;TZID=UTC:20140907T103000
DTEND;TZID=UTC:20140907T130000
DTSTAMP:20260422T005819
CREATED:20200209T175111Z
LAST-MODIFIED:20200209T175111Z
UID:175-1410085800-1410094800@harvelhashhouseharriers.com
SUMMARY:Eridge 10
DESCRIPTION:
URL:https://harvelhashhouseharriers.com/event/eridge-10/
END:VEVENT
BEGIN:VEVENT
DTSTART;TZID=UTC:20140907T103000
DTEND;TZID=UTC:20140907T120000
DTSTAMP:20260422T005819
CREATED:20200209T175111Z
LAST-MODIFIED:20200209T175111Z
UID:174-1410085800-1410091200@harvelhashhouseharriers.com
SUMMARY:Weald & St Georges 10K
DESCRIPTION:
URL:https://harvelhashhouseharriers.com/event/weald-st-georges-10k/
END:VEVENT
BEGIN:VEVENT
DTSTART;TZID=UTC:20140906T093000
DTEND;TZID=UTC:20140906T110000
DTSTAMP:20260422T005819
CREATED:20200209T175110Z
LAST-MODIFIED:20200209T175110Z
UID:173-1409995800-1410001200@harvelhashhouseharriers.com
SUMMARY:1st Shoreham Woods 10K Trail Run
DESCRIPTION:
URL:https://harvelhashhouseharriers.com/event/1st-shoreham-woods-10k-trail-run/
END:VEVENT
BEGIN:VEVENT
DTSTART;TZID=UTC:20140831T100000
DTEND;TZID=UTC:20140831T130000
DTSTAMP:20260422T005819
CREATED:20200209T175110Z
LAST-MODIFIED:20200209T175110Z
UID:172-1409479200-1409490000@harvelhashhouseharriers.com
SUMMARY:H4 Hash
DESCRIPTION:
URL:https://harvelhashhouseharriers.com/event/h4-hash/
END:VEVENT
BEGIN:VEVENT
DTSTART;TZID=UTC:20140829T180000
DTEND;TZID=UTC:20140829T210000
DTSTAMP:20260422T005819
CREATED:20200209T175110Z
LAST-MODIFIED:20200209T175110Z
UID:171-1409335200-1409346000@harvelhashhouseharriers.com
SUMMARY:ROUNDERS! Vigo Runners v H4
DESCRIPTION:
URL:https://harvelhashhouseharriers.com/event/rounders-vigo-runners-v-h4/
END:VEVENT
BEGIN:VEVENT
DTSTART;TZID=UTC:20140805T190000
DTEND;TZID=UTC:20140805T200000
DTSTAMP:20260422T005819
CREATED:20200209T175110Z
LAST-MODIFIED:20200209T175110Z
UID:170-1407265200-1407268800@harvelhashhouseharriers.com
SUMMARY:H4 Handicap Round #4
DESCRIPTION:
URL:https://harvelhashhouseharriers.com/event/h4-handicap-round-4/
END:VEVENT
BEGIN:VEVENT
DTSTART;TZID=UTC:20140725T180000
DTEND;TZID=UTC:20140725T190000
DTSTAMP:20260422T005819
CREATED:20200209T175110Z
LAST-MODIFIED:20200209T175110Z
UID:169-1406311200-1406314800@harvelhashhouseharriers.com
SUMMARY:Cricket
DESCRIPTION:
URL:https://harvelhashhouseharriers.com/event/cricket/
END:VEVENT
BEGIN:VEVENT
DTSTART;TZID=UTC:20140720T083000
DTEND;TZID=UTC:20140720T130000
DTSTAMP:20260422T005819
CREATED:20200209T175109Z
LAST-MODIFIED:20200209T175109Z
UID:168-1405845000-1405861200@harvelhashhouseharriers.com
SUMMARY:FAIRLANDS VALLEY CHALLENGE 2014
DESCRIPTION:
URL:https://harvelhashhouseharriers.com/event/fairlands-valley-challenge-2014/
END:VEVENT
BEGIN:VEVENT
DTSTART;TZID=UTC:20140719T190000
DTEND;TZID=UTC:20140720T000000
DTSTAMP:20260422T005819
CREATED:20200209T175109Z
LAST-MODIFIED:20200209T175109Z
UID:167-1405796400-1405814400@harvelhashhouseharriers.com
SUMMARY:Harvel Barn Dance
DESCRIPTION:
URL:https://harvelhashhouseharriers.com/event/harvel-barn-dance/
END:VEVENT
BEGIN:VEVENT
DTSTART;TZID=UTC:20140717T183000
DTEND;TZID=UTC:20140717T210000
DTSTAMP:20260422T005819
CREATED:20200209T175109Z
LAST-MODIFIED:20200209T175109Z
UID:166-1405621800-1405630800@harvelhashhouseharriers.com
SUMMARY:Yalding Run
DESCRIPTION:
URL:https://harvelhashhouseharriers.com/event/yalding-run/
END:VEVENT
BEGIN:VEVENT
DTSTART;TZID=UTC:20140713T110000
DTEND;TZID=UTC:20140713T133000
DTSTAMP:20260422T005819
CREATED:20200209T175109Z
LAST-MODIFIED:20200209T175109Z
UID:165-1405249200-1405258200@harvelhashhouseharriers.com
SUMMARY:H4 Red Dress Hash
DESCRIPTION:
URL:https://harvelhashhouseharriers.com/event/h4-red-dress-hash/
END:VEVENT
BEGIN:VEVENT
DTSTART;TZID=UTC:20140712T160000
DTEND;TZID=UTC:20140712T230000
DTSTAMP:20260422T005819
CREATED:20200209T175109Z
LAST-MODIFIED:20200209T175109Z
UID:164-1405180800-1405206000@harvelhashhouseharriers.com
SUMMARY:Leeds Castle Open Air Classical Concert
DESCRIPTION:
URL:https://harvelhashhouseharriers.com/event/leeds-castle-open-air-classical-concert/
END:VEVENT
END:VCALENDAR