BEGIN:VCALENDAR
VERSION:2.0
PRODID:-//Harvel Hash House Harriers - ECPv6.15.15//NONSGML v1.0//EN
CALSCALE:GREGORIAN
METHOD:PUBLISH
X-WR-CALNAME:Harvel Hash House Harriers
X-ORIGINAL-URL:https://harvelhashhouseharriers.com
X-WR-CALDESC:Events for Harvel Hash House Harriers
REFRESH-INTERVAL;VALUE=DURATION:PT1H
X-Robots-Tag:noindex
X-PUBLISHED-TTL:PT1H
BEGIN:VTIMEZONE
TZID:UTC
BEGIN:STANDARD
TZOFFSETFROM:+0000
TZOFFSETTO:+0000
TZNAME:UTC
DTSTART:20130101T000000
END:STANDARD
END:VTIMEZONE
BEGIN:VEVENT
DTSTART;TZID=UTC:20140725T180000
DTEND;TZID=UTC:20140725T190000
DTSTAMP:20260422T041332
CREATED:20200209T175110Z
LAST-MODIFIED:20200209T175110Z
UID:169-1406311200-1406314800@harvelhashhouseharriers.com
SUMMARY:Cricket
DESCRIPTION:
URL:https://harvelhashhouseharriers.com/event/cricket/
END:VEVENT
BEGIN:VEVENT
DTSTART;TZID=UTC:20140720T083000
DTEND;TZID=UTC:20140720T130000
DTSTAMP:20260422T041332
CREATED:20200209T175109Z
LAST-MODIFIED:20200209T175109Z
UID:168-1405845000-1405861200@harvelhashhouseharriers.com
SUMMARY:FAIRLANDS VALLEY CHALLENGE 2014
DESCRIPTION:
URL:https://harvelhashhouseharriers.com/event/fairlands-valley-challenge-2014/
END:VEVENT
BEGIN:VEVENT
DTSTART;TZID=UTC:20140719T190000
DTEND;TZID=UTC:20140720T000000
DTSTAMP:20260422T041332
CREATED:20200209T175109Z
LAST-MODIFIED:20200209T175109Z
UID:167-1405796400-1405814400@harvelhashhouseharriers.com
SUMMARY:Harvel Barn Dance
DESCRIPTION:
URL:https://harvelhashhouseharriers.com/event/harvel-barn-dance/
END:VEVENT
BEGIN:VEVENT
DTSTART;TZID=UTC:20140717T183000
DTEND;TZID=UTC:20140717T210000
DTSTAMP:20260422T041332
CREATED:20200209T175109Z
LAST-MODIFIED:20200209T175109Z
UID:166-1405621800-1405630800@harvelhashhouseharriers.com
SUMMARY:Yalding Run
DESCRIPTION:
URL:https://harvelhashhouseharriers.com/event/yalding-run/
END:VEVENT
BEGIN:VEVENT
DTSTART;TZID=UTC:20140713T110000
DTEND;TZID=UTC:20140713T133000
DTSTAMP:20260422T041332
CREATED:20200209T175109Z
LAST-MODIFIED:20200209T175109Z
UID:165-1405249200-1405258200@harvelhashhouseharriers.com
SUMMARY:H4 Red Dress Hash
DESCRIPTION:
URL:https://harvelhashhouseharriers.com/event/h4-red-dress-hash/
END:VEVENT
BEGIN:VEVENT
DTSTART;TZID=UTC:20140712T160000
DTEND;TZID=UTC:20140712T230000
DTSTAMP:20260422T041332
CREATED:20200209T175109Z
LAST-MODIFIED:20200209T175109Z
UID:164-1405180800-1405206000@harvelhashhouseharriers.com
SUMMARY:Leeds Castle Open Air Classical Concert
DESCRIPTION:
URL:https://harvelhashhouseharriers.com/event/leeds-castle-open-air-classical-concert/
END:VEVENT
BEGIN:VEVENT
DTSTART;TZID=UTC:20140706T000000
DTEND;TZID=UTC:20140707T000000
DTSTAMP:20260422T041332
CREATED:20200209T175108Z
LAST-MODIFIED:20200209T175108Z
UID:163-1404604800-1404691200@harvelhashhouseharriers.com
SUMMARY:Lakeland Trail Marathon & Half Marathon Challenge
DESCRIPTION:
URL:https://harvelhashhouseharriers.com/event/lakeland-trail-marathon-half-marathon-challenge/
END:VEVENT
BEGIN:VEVENT
DTSTART;TZID=UTC:20140626T190000
DTEND;TZID=UTC:20140626T210000
DTSTAMP:20260422T041332
CREATED:20200209T175108Z
LAST-MODIFIED:20200209T175108Z
UID:162-1403809200-1403816400@harvelhashhouseharriers.com
SUMMARY:H4 Run to West Peckham
DESCRIPTION:
URL:https://harvelhashhouseharriers.com/event/h4-run-to-west-peckham/
END:VEVENT
BEGIN:VEVENT
DTSTART;TZID=UTC:20140622T100000
DTEND;TZID=UTC:20140622T123000
DTSTAMP:20260422T041332
CREATED:20200209T175108Z
LAST-MODIFIED:20200209T175108Z
UID:161-1403431200-1403440200@harvelhashhouseharriers.com
SUMMARY:North Downs Run
DESCRIPTION:
URL:https://harvelhashhouseharriers.com/event/north-downs-run/
END:VEVENT
BEGIN:VEVENT
DTSTART;TZID=UTC:20140607T140000
DTEND;TZID=UTC:20140607T150000
DTSTAMP:20260422T041332
CREATED:20200209T175108Z
LAST-MODIFIED:20200209T175108Z
UID:160-1402149600-1402153200@harvelhashhouseharriers.com
SUMMARY:Harvel 5
DESCRIPTION:
URL:https://harvelhashhouseharriers.com/event/harvel-5/
END:VEVENT
BEGIN:VEVENT
DTSTART;TZID=UTC:20140603T190000
DTEND;TZID=UTC:20140603T200000
DTSTAMP:20260422T041332
CREATED:20200209T175108Z
LAST-MODIFIED:20200209T175108Z
UID:159-1401822000-1401825600@harvelhashhouseharriers.com
SUMMARY:H4 Handicap Round #3
DESCRIPTION:
URL:https://harvelhashhouseharriers.com/event/h4-handicap-round-3/
END:VEVENT
BEGIN:VEVENT
DTSTART;TZID=UTC:20140518T110000
DTEND;TZID=UTC:20140518T130000
DTSTAMP:20260422T041332
CREATED:20200209T175107Z
LAST-MODIFIED:20200209T175107Z
UID:158-1400410800-1400418000@harvelhashhouseharriers.com
SUMMARY:Paras 10
DESCRIPTION:
URL:https://harvelhashhouseharriers.com/event/paras-10/
END:VEVENT
BEGIN:VEVENT
DTSTART;TZID=UTC:20140511T120000
DTEND;TZID=UTC:20140511T130000
DTSTAMP:20260422T041332
CREATED:20200209T175107Z
LAST-MODIFIED:20200209T175107Z
UID:157-1399809600-1399813200@harvelhashhouseharriers.com
SUMMARY:Why Not Run (5K) Chislehurst x-Country
DESCRIPTION:
URL:https://harvelhashhouseharriers.com/event/why-not-run-5k-chislehurst-x-country/
END:VEVENT
BEGIN:VEVENT
DTSTART;TZID=UTC:20140510T090000
DTEND;TZID=UTC:20140510T140000
DTSTAMP:20260422T041332
CREATED:20200209T175107Z
LAST-MODIFIED:20200209T175107Z
UID:156-1399712400-1399730400@harvelhashhouseharriers.com
SUMMARY:Bewl Water Marathon & Half Marathon
DESCRIPTION:
URL:https://harvelhashhouseharriers.com/event/bewl-water-marathon-half-marathon/
END:VEVENT
BEGIN:VEVENT
DTSTART;TZID=UTC:20140504T110000
DTEND;TZID=UTC:20140504T130000
DTSTAMP:20260422T041332
CREATED:20200209T175107Z
LAST-MODIFIED:20200209T175107Z
UID:155-1399201200-1399208400@harvelhashhouseharriers.com
SUMMARY:H4 Bluebell Hash
DESCRIPTION:
URL:https://harvelhashhouseharriers.com/event/h4-bluebell-hash/
END:VEVENT
BEGIN:VEVENT
DTSTART;TZID=UTC:20140504T100000
DTEND;TZID=UTC:20140504T110000
DTSTAMP:20260422T041332
CREATED:20200209T175107Z
LAST-MODIFIED:20200209T175107Z
UID:154-1399197600-1399201200@harvelhashhouseharriers.com
SUMMARY:3 Forts Challenge
DESCRIPTION:
URL:https://harvelhashhouseharriers.com/event/3-forts-challenge/
END:VEVENT
BEGIN:VEVENT
DTSTART;TZID=UTC:20140503T120000
DTEND;TZID=UTC:20140503T170000
DTSTAMP:20260422T041332
CREATED:20200209T175107Z
LAST-MODIFIED:20200209T175107Z
UID:153-1399118400-1399136400@harvelhashhouseharriers.com
SUMMARY:Munchies on the Meadow
DESCRIPTION:
URL:https://harvelhashhouseharriers.com/event/munchies-on-the-meadow/
END:VEVENT
BEGIN:VEVENT
DTSTART;TZID=UTC:20140413T090000
DTEND;TZID=UTC:20140413T130000
DTSTAMP:20260422T041332
CREATED:20200209T175107Z
LAST-MODIFIED:20200209T175107Z
UID:152-1397379600-1397394000@harvelhashhouseharriers.com
SUMMARY:Virgin London Marathon
DESCRIPTION:
URL:https://harvelhashhouseharriers.com/event/virgin-london-marathon/
END:VEVENT
BEGIN:VEVENT
DTSTART;TZID=UTC:20140406T110000
DTEND;TZID=UTC:20140406T120000
DTSTAMP:20260422T041332
CREATED:20200209T175106Z
LAST-MODIFIED:20200209T175106Z
UID:151-1396782000-1396785600@harvelhashhouseharriers.com
SUMMARY:H4 Handicap Round #2
DESCRIPTION:
URL:https://harvelhashhouseharriers.com/event/h4-handicap-round-2/
END:VEVENT
BEGIN:VEVENT
DTSTART;TZID=UTC:20140406T083000
DTEND;TZID=UTC:20140406T093000
DTSTAMP:20260422T041332
CREATED:20200209T175106Z
LAST-MODIFIED:20200209T175106Z
UID:150-1396773000-1396776600@harvelhashhouseharriers.com
SUMMARY:Darent Valley 10k
DESCRIPTION:
URL:https://harvelhashhouseharriers.com/event/darent-valley-10k/
END:VEVENT
BEGIN:VEVENT
DTSTART;TZID=UTC:20140405T180000
DTEND;TZID=UTC:20140405T223000
DTSTAMP:20260422T041332
CREATED:20200209T175106Z
LAST-MODIFIED:20200209T175106Z
UID:149-1396720800-1396737000@harvelhashhouseharriers.com
SUMMARY:Dog Racing
DESCRIPTION:
URL:https://harvelhashhouseharriers.com/event/dog-racing/
END:VEVENT
BEGIN:VEVENT
DTSTART;TZID=UTC:20140330T093000
DTEND;TZID=UTC:20140330T113000
DTSTAMP:20260422T041332
CREATED:20200209T175106Z
LAST-MODIFIED:20200209T175106Z
UID:148-1396171800-1396179000@harvelhashhouseharriers.com
SUMMARY:Paddock Wood Half Marathon
DESCRIPTION:
URL:https://harvelhashhouseharriers.com/event/paddock-wood-half-marathon/
END:VEVENT
BEGIN:VEVENT
DTSTART;TZID=UTC:20140323T110000
DTEND;TZID=UTC:20140323T133000
DTSTAMP:20260422T041332
CREATED:20200209T175106Z
LAST-MODIFIED:20200209T175106Z
UID:147-1395572400-1395581400@harvelhashhouseharriers.com
SUMMARY:MASH BASH (Mountain Bike Hash)
DESCRIPTION:
URL:https://harvelhashhouseharriers.com/event/mash-bash-mountain-bike-hash/
END:VEVENT
BEGIN:VEVENT
DTSTART;TZID=UTC:20140323T103000
DTEND;TZID=UTC:20140323T120000
DTSTAMP:20260422T041332
CREATED:20200209T175106Z
LAST-MODIFIED:20200209T175106Z
UID:146-1395570600-1395576000@harvelhashhouseharriers.com
SUMMARY:THE 30th Hastings Half Marathon
DESCRIPTION:
URL:https://harvelhashhouseharriers.com/event/the-30th-hastings-half-marathon/
END:VEVENT
BEGIN:VEVENT
DTSTART;TZID=UTC:20140309T110000
DTEND;TZID=UTC:20140309T130000
DTSTAMP:20260422T041332
CREATED:20200209T175106Z
LAST-MODIFIED:20200209T175106Z
UID:145-1394362800-1394370000@harvelhashhouseharriers.com
SUMMARY:H4 Easter Bunny Hash
DESCRIPTION:
URL:https://harvelhashhouseharriers.com/event/h4-easter-bunny-hash/
END:VEVENT
BEGIN:VEVENT
DTSTART;TZID=UTC:20140302T090000
DTEND;TZID=UTC:20140302T110000
DTSTAMP:20260422T041332
CREATED:20200209T175105Z
LAST-MODIFIED:20200209T175105Z
UID:144-1393750800-1393758000@harvelhashhouseharriers.com
SUMMARY:Tunbridge Wells Half Marathon
DESCRIPTION:
URL:https://harvelhashhouseharriers.com/event/tunbridge-wells-half-marathon/
END:VEVENT
BEGIN:VEVENT
DTSTART;TZID=UTC:20140216T103000
DTEND;TZID=UTC:20140216T120000
DTSTAMP:20260422T041332
CREATED:20200209T175105Z
LAST-MODIFIED:20200209T175105Z
UID:143-1392546600-1392552000@harvelhashhouseharriers.com
SUMMARY:Valentines Run
DESCRIPTION:
URL:https://harvelhashhouseharriers.com/event/valentines-run/
END:VEVENT
BEGIN:VEVENT
DTSTART;TZID=UTC:20140202T100000
DTEND;TZID=UTC:20140202T110000
DTSTAMP:20260422T041332
CREATED:20200209T175105Z
LAST-MODIFIED:20200209T175105Z
UID:142-1391335200-1391338800@harvelhashhouseharriers.com
SUMMARY:H4 Handicap Round #1
DESCRIPTION:
URL:https://harvelhashhouseharriers.com/event/h4-handicap-round-1/
END:VEVENT
BEGIN:VEVENT
DTSTART;TZID=UTC:20140126T090000
DTEND;TZID=UTC:20140126T140000
DTSTAMP:20260422T041332
CREATED:20200209T175105Z
LAST-MODIFIED:20200209T175105Z
UID:141-1390726800-1390744800@harvelhashhouseharriers.com
SUMMARY:Dark Star Brewery River Marathon
DESCRIPTION:
URL:https://harvelhashhouseharriers.com/event/dark-star-brewery-river-marathon/
END:VEVENT
BEGIN:VEVENT
DTSTART;TZID=UTC:20140124T200000
DTEND;TZID=UTC:20140124T220000
DTSTAMP:20260422T041332
CREATED:20200209T175105Z
LAST-MODIFIED:20200209T175105Z
UID:140-1390593600-1390600800@harvelhashhouseharriers.com
SUMMARY:H4 Curling
DESCRIPTION:
URL:https://harvelhashhouseharriers.com/event/h4-curling/
END:VEVENT
END:VCALENDAR