BEGIN:VCALENDAR
VERSION:2.0
PRODID:-//Harvel Hash House Harriers - ECPv6.15.15//NONSGML v1.0//EN
CALSCALE:GREGORIAN
METHOD:PUBLISH
X-ORIGINAL-URL:https://harvelhashhouseharriers.com
X-WR-CALDESC:Events for Harvel Hash House Harriers
REFRESH-INTERVAL;VALUE=DURATION:PT1H
X-Robots-Tag:noindex
X-PUBLISHED-TTL:PT1H
BEGIN:VTIMEZONE
TZID:UTC
BEGIN:STANDARD
TZOFFSETFROM:+0000
TZOFFSETTO:+0000
TZNAME:UTC
DTSTART:20180101T000000
END:STANDARD
END:VTIMEZONE
BEGIN:VEVENT
DTSTART;TZID=UTC:20200405T093000
DTEND;TZID=UTC:20200405T120000
DTSTAMP:20260420T142047
CREATED:20200209T185022Z
LAST-MODIFIED:20200209T185022Z
UID:483-1586079000-1586088000@harvelhashhouseharriers.com
SUMMARY:Paddock Wood Half Marathon
DESCRIPTION:
URL:https://harvelhashhouseharriers.com/event/paddock-wood-half-marathon-6/
END:VEVENT
BEGIN:VEVENT
DTSTART;TZID=UTC:20200404T000000
DTEND;TZID=UTC:20200405T000000
DTSTAMP:20260420T142047
CREATED:20200209T185007Z
LAST-MODIFIED:20200209T185007Z
UID:482-1585958400-1586044800@harvelhashhouseharriers.com
SUMMARY:Centurian South Downs 50
DESCRIPTION:
URL:https://harvelhashhouseharriers.com/event/centurian-south-downs-50/
END:VEVENT
BEGIN:VEVENT
DTSTART;TZID=UTC:20200329T092000
DTEND;TZID=UTC:20200329T120000
DTSTAMP:20260420T142047
CREATED:20200209T185007Z
LAST-MODIFIED:20200209T185007Z
UID:481-1585473600-1585483200@harvelhashhouseharriers.com
SUMMARY:London Landmarks Half
DESCRIPTION:
URL:https://harvelhashhouseharriers.com/event/london-landmarks-half/
END:VEVENT
BEGIN:VEVENT
DTSTART;TZID=UTC:20200329T090000
DTEND;TZID=UTC:20200329T120000
DTSTAMP:20260420T142047
CREATED:20200209T185006Z
LAST-MODIFIED:20200209T185006Z
UID:480-1585472400-1585483200@harvelhashhouseharriers.com
SUMMARY:Hastings Half Marathon
DESCRIPTION:
URL:https://harvelhashhouseharriers.com/event/hastings-half-marathon-6/
END:VEVENT
BEGIN:VEVENT
DTSTART;TZID=UTC:20200328T000000
DTEND;TZID=UTC:20200329T000000
DTSTAMP:20260420T142047
CREATED:20200209T185006Z
LAST-MODIFIED:20200209T185006Z
UID:479-1585353600-1585440000@harvelhashhouseharriers.com
SUMMARY:Votwo Jurassic Coast Ultra
DESCRIPTION:
URL:https://harvelhashhouseharriers.com/event/votwo-jurassic-coast-ultra/
END:VEVENT
BEGIN:VEVENT
DTSTART;TZID=UTC:20200322T093000
DTEND;TZID=UTC:20200322T140000
DTSTAMP:20260420T142047
CREATED:20200209T185006Z
LAST-MODIFIED:20200209T185006Z
UID:478-1584869400-1584885600@harvelhashhouseharriers.com
SUMMARY:Medway Megalith Marathon/Half
DESCRIPTION:
URL:https://harvelhashhouseharriers.com/event/medway-megalith-marathon-half-2/
END:VEVENT
BEGIN:VEVENT
DTSTART;TZID=UTC:20200301T110000
DTEND;TZID=UTC:20200301T130000
DTSTAMP:20260420T142047
CREATED:20200209T184952Z
LAST-MODIFIED:20200209T184952Z
UID:477-1583060400-1583067600@harvelhashhouseharriers.com
SUMMARY:H4 Hash
DESCRIPTION:
URL:https://harvelhashhouseharriers.com/event/h4-hash-14/
END:VEVENT
BEGIN:VEVENT
DTSTART;TZID=UTC:20200228T190000
DTEND;TZID=UTC:20200228T220000
DTSTAMP:20260420T142047
CREATED:20200209T184952Z
LAST-MODIFIED:20200209T184952Z
UID:476-1582916400-1582927200@harvelhashhouseharriers.com
SUMMARY:Dora : VLM Quiz night
DESCRIPTION:
URL:https://harvelhashhouseharriers.com/event/dora-vlm-quiz-night/
END:VEVENT
BEGIN:VEVENT
DTSTART;TZID=UTC:20200223T103000
DTEND;TZID=UTC:20200223T120000
DTSTAMP:20260420T142047
CREATED:20200209T184952Z
LAST-MODIFIED:20200209T184952Z
UID:475-1582453800-1582459200@harvelhashhouseharriers.com
SUMMARY:Trosley Park 5/10k
DESCRIPTION:
URL:https://harvelhashhouseharriers.com/event/trosley-park-5-10k-2/
END:VEVENT
BEGIN:VEVENT
DTSTART;TZID=UTC:20200216T103000
DTEND;TZID=UTC:20200216T120000
DTSTAMP:20260420T142047
CREATED:20200209T184952Z
LAST-MODIFIED:20200209T184952Z
UID:474-1581849000-1581854400@harvelhashhouseharriers.com
SUMMARY:Vigo 10
DESCRIPTION:
URL:https://harvelhashhouseharriers.com/event/vigo-10/
END:VEVENT
BEGIN:VEVENT
DTSTART;TZID=UTC:20200216T090000
DTEND;TZID=UTC:20200216T120000
DTSTAMP:20260420T142047
CREATED:20200209T184952Z
LAST-MODIFIED:20200209T184952Z
UID:473-1581843600-1581854400@harvelhashhouseharriers.com
SUMMARY:Tunbridge Wells Half Marathon
DESCRIPTION:
URL:https://harvelhashhouseharriers.com/event/tunbridge-wells-half-marathon-6/
END:VEVENT
BEGIN:VEVENT
DTSTART;TZID=UTC:20200209T110000
DTEND;TZID=UTC:20200209T130000
DTSTAMP:20260420T142047
CREATED:20200209T184931Z
LAST-MODIFIED:20200209T184931Z
UID:472-1581246000-1581253200@harvelhashhouseharriers.com
SUMMARY:H4 'F-Hash' Hares Wolvie & Embaa
DESCRIPTION:
URL:https://harvelhashhouseharriers.com/event/h4-f-hash-hares-wolvie-embaa/
END:VEVENT
BEGIN:VEVENT
DTSTART;TZID=UTC:20200209T103000
DTEND;TZID=UTC:20200209T120000
DTSTAMP:20260420T142047
CREATED:20200209T184931Z
LAST-MODIFIED:20200209T184931Z
UID:471-1581244200-1581249600@harvelhashhouseharriers.com
SUMMARY:Deal Half Marathon
DESCRIPTION:
URL:https://harvelhashhouseharriers.com/event/deal-half-marathon/
END:VEVENT
BEGIN:VEVENT
DTSTART;TZID=UTC:20200208T000000
DTEND;TZID=UTC:20200209T000000
DTSTAMP:20260420T142047
CREATED:20200209T184931Z
LAST-MODIFIED:20200209T184931Z
UID:470-1581120000-1581206400@harvelhashhouseharriers.com
SUMMARY:Kent Cross Country
DESCRIPTION:
URL:https://harvelhashhouseharriers.com/event/kent-cross-country-4/
END:VEVENT
BEGIN:VEVENT
DTSTART;TZID=UTC:20200201T190000
DTEND;TZID=UTC:20200202T000000
DTSTAMP:20260420T142047
CREATED:20200209T184930Z
LAST-MODIFIED:20200209T184930Z
UID:469-1580583600-1580601600@harvelhashhouseharriers.com
SUMMARY:H4 Dinner Dance
DESCRIPTION:
URL:https://harvelhashhouseharriers.com/event/h4-dinner-dance-5/
END:VEVENT
BEGIN:VEVENT
DTSTART;TZID=UTC:20200130T190000
DTEND;TZID=UTC:20200130T210000
DTSTAMP:20260420T142047
CREATED:20200209T184930Z
LAST-MODIFIED:20200209T184930Z
UID:468-1580410800-1580418000@harvelhashhouseharriers.com
SUMMARY:H4 Hairless Squad Meet.
DESCRIPTION:
URL:https://harvelhashhouseharriers.com/event/h4-hairless-squad-meet/
END:VEVENT
BEGIN:VEVENT
DTSTART;TZID=UTC:20200124T183000
DTEND;TZID=UTC:20200124T230000
DTSTAMP:20260420T142047
CREATED:20200209T184744Z
LAST-MODIFIED:20200209T184744Z
UID:467-1579890600-1579906800@harvelhashhouseharriers.com
SUMMARY:H4 Jack the Ripper Tour
DESCRIPTION:
URL:https://harvelhashhouseharriers.com/event/h4-jack-the-ripper-tour/
END:VEVENT
BEGIN:VEVENT
DTSTART;TZID=UTC:20200120T093000
DTEND;TZID=UTC:20200120T120000
DTSTAMP:20260420T142047
CREATED:20200209T184744Z
LAST-MODIFIED:20200209T184744Z
UID:466-1579512600-1579521600@harvelhashhouseharriers.com
SUMMARY:Dartford Half Marathon
DESCRIPTION:
URL:https://harvelhashhouseharriers.com/event/dartford-half-marathon-2/
END:VEVENT
BEGIN:VEVENT
DTSTART;TZID=UTC:20200105T110000
DTEND;TZID=UTC:20200105T130000
DTSTAMP:20260420T142047
CREATED:20200209T184744Z
LAST-MODIFIED:20200209T184744Z
UID:465-1578222000-1578229200@harvelhashhouseharriers.com
SUMMARY:H4: Hash
DESCRIPTION:
URL:https://harvelhashhouseharriers.com/event/h4-hash-13/
END:VEVENT
BEGIN:VEVENT
DTSTART;TZID=UTC:20191227T183000
DTEND;TZID=UTC:20191227T193000
DTSTAMP:20260420T142047
CREATED:20200209T184744Z
LAST-MODIFIED:20200209T184744Z
UID:464-1577471400-1577475000@harvelhashhouseharriers.com
SUMMARY:H4 Blokes Beers
DESCRIPTION:
URL:https://harvelhashhouseharriers.com/event/h4-blokes-beers/
END:VEVENT
BEGIN:VEVENT
DTSTART;TZID=UTC:20191220T000000
DTEND;TZID=UTC:20191221T000000
DTSTAMP:20260420T142047
CREATED:20200209T184744Z
LAST-MODIFIED:20200209T184744Z
UID:463-1576800000-1576886400@harvelhashhouseharriers.com
SUMMARY:H4 Ladies Social
DESCRIPTION:
URL:https://harvelhashhouseharriers.com/event/h4-ladies-social/
END:VEVENT
BEGIN:VEVENT
DTSTART;TZID=UTC:20191219T193000
DTEND;TZID=UTC:20191219T210000
DTSTAMP:20260420T142047
CREATED:20200209T182532Z
LAST-MODIFIED:20200209T182532Z
UID:462-1576783800-1576789200@harvelhashhouseharriers.com
SUMMARY:Nicework Cyclopark 5/10K
DESCRIPTION:
URL:https://harvelhashhouseharriers.com/event/nicework-cyclopark-5-10k-2/
END:VEVENT
BEGIN:VEVENT
DTSTART;TZID=UTC:20191215T110000
DTEND;TZID=UTC:20191215T150000
DTSTAMP:20260420T142047
CREATED:20200209T182532Z
LAST-MODIFIED:20200209T182532Z
UID:461-1576407600-1576422000@harvelhashhouseharriers.com
SUMMARY:H4 Santa Hash
DESCRIPTION:
URL:https://harvelhashhouseharriers.com/event/h4-santa-hash-6/
END:VEVENT
BEGIN:VEVENT
DTSTART;TZID=UTC:20191214T000000
DTEND;TZID=UTC:20191215T000000
DTSTAMP:20260420T142047
CREATED:20200209T182532Z
LAST-MODIFIED:20200209T182532Z
UID:460-1576281600-1576368000@harvelhashhouseharriers.com
SUMMARY:Kent Cross Country
DESCRIPTION:
URL:https://harvelhashhouseharriers.com/event/kent-cross-country-3/
END:VEVENT
BEGIN:VEVENT
DTSTART;TZID=UTC:20191208T110000
DTEND;TZID=UTC:20191208T120000
DTSTAMP:20260420T142047
CREATED:20200209T182532Z
LAST-MODIFIED:20200209T182532Z
UID:459-1575802800-1575806400@harvelhashhouseharriers.com
SUMMARY:Turkey Run
DESCRIPTION:
URL:https://harvelhashhouseharriers.com/event/turkey-run-3/
END:VEVENT
BEGIN:VEVENT
DTSTART;TZID=UTC:20191203T200000
DTEND;TZID=UTC:20191203T210000
DTSTAMP:20260420T142047
CREATED:20200209T182532Z
LAST-MODIFIED:20200209T182532Z
UID:458-1575403200-1575406800@harvelhashhouseharriers.com
SUMMARY:H4 Tues Running Squad Meet
DESCRIPTION:
URL:https://harvelhashhouseharriers.com/event/h4-tues-running-squad-meet/
END:VEVENT
BEGIN:VEVENT
DTSTART;TZID=UTC:20191126T200000
DTEND;TZID=UTC:20191126T210000
DTSTAMP:20260420T142047
CREATED:20200209T182459Z
LAST-MODIFIED:20200209T182459Z
UID:457-1574798400-1574802000@harvelhashhouseharriers.com
SUMMARY:H4 Tues Serious Squad Meet
DESCRIPTION:
URL:https://harvelhashhouseharriers.com/event/h4-tues-serious-squad-meet/
END:VEVENT
BEGIN:VEVENT
DTSTART;TZID=UTC:20191117T100000
DTEND;TZID=UTC:20191117T110000
DTSTAMP:20260420T142047
CREATED:20200209T182459Z
LAST-MODIFIED:20200209T182459Z
UID:456-1573984800-1573988400@harvelhashhouseharriers.com
SUMMARY:Lullingstone 10k
DESCRIPTION:
URL:https://harvelhashhouseharriers.com/event/lullingstone-10k/
END:VEVENT
BEGIN:VEVENT
DTSTART;TZID=UTC:20191117T090000
DTEND;TZID=UTC:20191117T120000
DTSTAMP:20260420T142047
CREATED:20200209T182459Z
LAST-MODIFIED:20200209T182459Z
UID:455-1573981200-1573992000@harvelhashhouseharriers.com
SUMMARY:Bedgebury 10k / Half Marathon
DESCRIPTION:
URL:https://harvelhashhouseharriers.com/event/bedgebury-10k-half-marathon/
END:VEVENT
BEGIN:VEVENT
DTSTART;TZID=UTC:20191109T000000
DTEND;TZID=UTC:20191110T000000
DTSTAMP:20260420T142047
CREATED:20200209T182459Z
LAST-MODIFIED:20200209T182459Z
UID:454-1573257600-1573344000@harvelhashhouseharriers.com
SUMMARY:Kent Cross Country
DESCRIPTION:
URL:https://harvelhashhouseharriers.com/event/kent-cross-country-2/
END:VEVENT
END:VCALENDAR