BEGIN:VCALENDAR
VERSION:2.0
PRODID:-//Harvel Hash House Harriers - ECPv6.15.15//NONSGML v1.0//EN
CALSCALE:GREGORIAN
METHOD:PUBLISH
X-WR-CALNAME:Harvel Hash House Harriers
X-ORIGINAL-URL:https://harvelhashhouseharriers.com
X-WR-CALDESC:Events for Harvel Hash House Harriers
REFRESH-INTERVAL;VALUE=DURATION:PT1H
X-Robots-Tag:noindex
X-PUBLISHED-TTL:PT1H
BEGIN:VTIMEZONE
TZID:UTC
BEGIN:STANDARD
TZOFFSETFROM:+0000
TZOFFSETTO:+0000
TZNAME:UTC
DTSTART:20180101T000000
END:STANDARD
END:VTIMEZONE
BEGIN:VEVENT
DTSTART;TZID=UTC:20191004T000000
DTEND;TZID=UTC:20191009T000000
DTSTAMP:20260420T191426
CREATED:20200209T182355Z
LAST-MODIFIED:20200209T182355Z
UID:447-1570147200-1570579200@harvelhashhouseharriers.com
SUMMARY:H4 Tour a Lyon
DESCRIPTION:
URL:https://harvelhashhouseharriers.com/event/h4-tour-a-lyon/
END:VEVENT
BEGIN:VEVENT
DTSTART;TZID=UTC:20190924T190000
DTEND;TZID=UTC:20190924T203000
DTSTAMP:20260420T191426
CREATED:20200209T182355Z
LAST-MODIFIED:20200209T182355Z
UID:446-1569351600-1569357000@harvelhashhouseharriers.com
SUMMARY:H4 Handicap - Road Route
DESCRIPTION:
URL:https://harvelhashhouseharriers.com/event/h4-handicap-road-route-4/
END:VEVENT
BEGIN:VEVENT
DTSTART;TZID=UTC:20190914T000000
DTEND;TZID=UTC:20190916T000000
DTSTAMP:20260420T191426
CREATED:20200209T182355Z
LAST-MODIFIED:20200209T182355Z
UID:445-1568419200-1568592000@harvelhashhouseharriers.com
SUMMARY:H4: Ammy to Canterbury Cathedral Run
DESCRIPTION:
URL:https://harvelhashhouseharriers.com/event/h4-ammy-to-canterbury-cathedral-run/
END:VEVENT
BEGIN:VEVENT
DTSTART;TZID=UTC:20190903T200000
DTEND;TZID=UTC:20190903T210000
DTSTAMP:20260420T191426
CREATED:20200209T182354Z
LAST-MODIFIED:20200209T182354Z
UID:444-1567540800-1567544400@harvelhashhouseharriers.com
SUMMARY:H4 EGM!
DESCRIPTION:
URL:https://harvelhashhouseharriers.com/event/h4-egm/
END:VEVENT
BEGIN:VEVENT
DTSTART;TZID=UTC:20190827T190000
DTEND;TZID=UTC:20190827T203000
DTSTAMP:20260420T191426
CREATED:20200209T182354Z
LAST-MODIFIED:20200209T182354Z
UID:443-1566932400-1566937800@harvelhashhouseharriers.com
SUMMARY:H4 Handicap Trail Route
DESCRIPTION:
URL:https://harvelhashhouseharriers.com/event/h4-handicap-trail-route-3/
END:VEVENT
BEGIN:VEVENT
DTSTART;TZID=UTC:20190815T190000
DTEND;TZID=UTC:20190815T203000
DTSTAMP:20260420T191426
CREATED:20200209T182352Z
LAST-MODIFIED:20200209T182352Z
UID:442-1565895600-1565901000@harvelhashhouseharriers.com
SUMMARY:H4 Pub Run
DESCRIPTION:
URL:https://harvelhashhouseharriers.com/event/h4-pub-run-3/
END:VEVENT
BEGIN:VEVENT
DTSTART;TZID=UTC:20190811T110000
DTEND;TZID=UTC:20190811T130000
DTSTAMP:20260420T191426
CREATED:20200209T182352Z
LAST-MODIFIED:20200209T182352Z
UID:441-1565521200-1565528400@harvelhashhouseharriers.com
SUMMARY:H4 Hash
DESCRIPTION:
URL:https://harvelhashhouseharriers.com/event/h4-hash-12/
END:VEVENT
BEGIN:VEVENT
DTSTART;TZID=UTC:20190810T120000
DTEND;TZID=UTC:20190810T170000
DTSTAMP:20260420T191426
CREATED:20200209T182352Z
LAST-MODIFIED:20200209T182352Z
UID:440-1565438400-1565456400@harvelhashhouseharriers.com
SUMMARY:H4 Bike Pub Crawl
DESCRIPTION:
URL:https://harvelhashhouseharriers.com/event/h4-bike-pub-crawl-2/
END:VEVENT
BEGIN:VEVENT
DTSTART;TZID=UTC:20190808T190000
DTEND;TZID=UTC:20190808T210000
DTSTAMP:20260420T191426
CREATED:20200209T182352Z
LAST-MODIFIED:20200209T182352Z
UID:439-1565290800-1565298000@harvelhashhouseharriers.com
SUMMARY:H4 Thurs Run
DESCRIPTION:
URL:https://harvelhashhouseharriers.com/event/h4-thurs-run/
END:VEVENT
BEGIN:VEVENT
DTSTART;TZID=UTC:20190804T110000
DTEND;TZID=UTC:20190804T130000
DTSTAMP:20260420T191427
CREATED:20200209T182352Z
LAST-MODIFIED:20200209T182352Z
UID:438-1564916400-1564923600@harvelhashhouseharriers.com
SUMMARY:H4 Hash (Provisional)
DESCRIPTION:
URL:https://harvelhashhouseharriers.com/event/h4-hash-provisional-4/
END:VEVENT
BEGIN:VEVENT
DTSTART;TZID=UTC:20190801T190000
DTEND;TZID=UTC:20190801T210000
DTSTAMP:20260420T191427
CREATED:20200209T182347Z
LAST-MODIFIED:20200209T182347Z
UID:437-1564686000-1564693200@harvelhashhouseharriers.com
SUMMARY:H4 Thursday
DESCRIPTION:
URL:https://harvelhashhouseharriers.com/event/h4-thursday/
END:VEVENT
BEGIN:VEVENT
DTSTART;TZID=UTC:20190730T190000
DTEND;TZID=UTC:20190730T203000
DTSTAMP:20260420T191427
CREATED:20200209T182347Z
LAST-MODIFIED:20200209T182347Z
UID:436-1564513200-1564518600@harvelhashhouseharriers.com
SUMMARY:H4 Handicap - Road Route
DESCRIPTION:
URL:https://harvelhashhouseharriers.com/event/h4-handicap-road-route-3/
END:VEVENT
BEGIN:VEVENT
DTSTART;TZID=UTC:20190720T000000
DTEND;TZID=UTC:20190721T000000
DTSTAMP:20260420T191427
CREATED:20200209T182347Z
LAST-MODIFIED:20200209T182347Z
UID:435-1563580800-1563667200@harvelhashhouseharriers.com
SUMMARY:H4: Charity Festival (HFEST)
DESCRIPTION:
URL:https://harvelhashhouseharriers.com/event/h4-charity-festival-hfest/
END:VEVENT
BEGIN:VEVENT
DTSTART;TZID=UTC:20190718T190000
DTEND;TZID=UTC:20190718T210000
DTSTAMP:20260420T191427
CREATED:20200209T182347Z
LAST-MODIFIED:20200209T182347Z
UID:434-1563476400-1563483600@harvelhashhouseharriers.com
SUMMARY:H4 Thurs Run : The Neville Bull
DESCRIPTION:
URL:https://harvelhashhouseharriers.com/event/h4-thurs-run-the-neville-bull/
END:VEVENT
BEGIN:VEVENT
DTSTART;TZID=UTC:20190714T103000
DTEND;TZID=UTC:20190714T113000
DTSTAMP:20260420T191427
CREATED:20200209T182347Z
LAST-MODIFIED:20200209T182347Z
UID:433-1563100200-1563103800@harvelhashhouseharriers.com
SUMMARY:Sevenoaks Seven
DESCRIPTION:
URL:https://harvelhashhouseharriers.com/event/sevenoaks-seven/
END:VEVENT
BEGIN:VEVENT
DTSTART;TZID=UTC:20190707T110000
DTEND;TZID=UTC:20190707T130000
DTSTAMP:20260420T191427
CREATED:20200209T182336Z
LAST-MODIFIED:20200209T182336Z
UID:432-1562497200-1562504400@harvelhashhouseharriers.com
SUMMARY:H4 Hash (Provisional) Red Dress
DESCRIPTION:
URL:https://harvelhashhouseharriers.com/event/h4-hash-provisional-red-dress/
END:VEVENT
BEGIN:VEVENT
DTSTART;TZID=UTC:20190630T103000
DTEND;TZID=UTC:20190630T123000
DTSTAMP:20260420T191427
CREATED:20200209T182336Z
LAST-MODIFIED:20200209T182336Z
UID:431-1561890600-1561897800@harvelhashhouseharriers.com
SUMMARY:North Downs Run
DESCRIPTION:
URL:https://harvelhashhouseharriers.com/event/north-downs-run-6/
END:VEVENT
BEGIN:VEVENT
DTSTART;TZID=UTC:20190625T190000
DTEND;TZID=UTC:20190625T203000
DTSTAMP:20260420T191427
CREATED:20200209T182336Z
LAST-MODIFIED:20200209T182336Z
UID:430-1561489200-1561494600@harvelhashhouseharriers.com
SUMMARY:H4 Handicap - Trail Route
DESCRIPTION:
URL:https://harvelhashhouseharriers.com/event/h4-handicap-trail-route-2/
END:VEVENT
BEGIN:VEVENT
DTSTART;TZID=UTC:20190608T000000
DTEND;TZID=UTC:20190609T000000
DTSTAMP:20260420T191427
CREATED:20200209T182336Z
LAST-MODIFIED:20200209T182336Z
UID:429-1559952000-1560038400@harvelhashhouseharriers.com
SUMMARY:Harvel Barn Dance
DESCRIPTION:
URL:https://harvelhashhouseharriers.com/event/harvel-barn-dance-3/
END:VEVENT
BEGIN:VEVENT
DTSTART;TZID=UTC:20190601T000000
DTEND;TZID=UTC:20190602T000000
DTSTAMP:20260420T191427
CREATED:20200209T182336Z
LAST-MODIFIED:20200209T182336Z
UID:428-1559347200-1559433600@harvelhashhouseharriers.com
SUMMARY:Harvel 5
DESCRIPTION:
URL:https://harvelhashhouseharriers.com/event/harvel-5-3/
END:VEVENT
BEGIN:VEVENT
DTSTART;TZID=UTC:20190528T190000
DTEND;TZID=UTC:20190528T203000
DTSTAMP:20260420T191427
CREATED:20200209T182245Z
LAST-MODIFIED:20200209T182245Z
UID:426-1559070000-1559075400@harvelhashhouseharriers.com
SUMMARY:H4 Handicap - Road Route
DESCRIPTION:
URL:https://harvelhashhouseharriers.com/event/h4-handicap-road-route-2/
END:VEVENT
BEGIN:VEVENT
DTSTART;TZID=UTC:20190505T110000
DTEND;TZID=UTC:20190505T130000
DTSTAMP:20260420T191427
CREATED:20200209T182245Z
LAST-MODIFIED:20200209T182245Z
UID:425-1557054000-1557061200@harvelhashhouseharriers.com
SUMMARY:H4 Hash
DESCRIPTION:
URL:https://harvelhashhouseharriers.com/event/h4-hash-11/
END:VEVENT
BEGIN:VEVENT
DTSTART;TZID=UTC:20190502T190000
DTEND;TZID=UTC:20190502T210000
DTSTAMP:20260420T191427
CREATED:20200209T182245Z
LAST-MODIFIED:20200209T182245Z
UID:424-1556823600-1556830800@harvelhashhouseharriers.com
SUMMARY:H4 Thurs Pub Run
DESCRIPTION:
URL:https://harvelhashhouseharriers.com/event/h4-thurs-pub-run/
END:VEVENT
BEGIN:VEVENT
DTSTART;TZID=UTC:20190430T190000
DTEND;TZID=UTC:20190430T203000
DTSTAMP:20260420T191427
CREATED:20200209T182245Z
LAST-MODIFIED:20200209T182245Z
UID:423-1556650800-1556656200@harvelhashhouseharriers.com
SUMMARY:H4 Handicap - Trail Route
DESCRIPTION:
URL:https://harvelhashhouseharriers.com/event/h4-handicap-trail-route/
END:VEVENT
BEGIN:VEVENT
DTSTART;TZID=UTC:20190414T110000
DTEND;TZID=UTC:20190414T130000
DTSTAMP:20260420T191427
CREATED:20200209T182245Z
LAST-MODIFIED:20200209T182245Z
UID:422-1555239600-1555246800@harvelhashhouseharriers.com
SUMMARY:H4 Hash
DESCRIPTION:
URL:https://harvelhashhouseharriers.com/event/h4-hash-10/
END:VEVENT
BEGIN:VEVENT
DTSTART;TZID=UTC:20190407T100000
DTEND;TZID=UTC:20190407T120000
DTSTAMP:20260420T191427
CREATED:20200209T181918Z
LAST-MODIFIED:20200209T181918Z
UID:421-1554631200-1554638400@harvelhashhouseharriers.com
SUMMARY:Paddock Wood Half Marathon
DESCRIPTION:
URL:https://harvelhashhouseharriers.com/event/paddock-wood-half-marathon-5/
END:VEVENT
BEGIN:VEVENT
DTSTART;TZID=UTC:20190324T103000
DTEND;TZID=UTC:20190324T113000
DTSTAMP:20260420T191427
CREATED:20200209T181918Z
LAST-MODIFIED:20200209T181918Z
UID:420-1553423400-1553427000@harvelhashhouseharriers.com
SUMMARY:Hastings Half Marathon
DESCRIPTION:
URL:https://harvelhashhouseharriers.com/event/hastings-half-marathon-5/
END:VEVENT
BEGIN:VEVENT
DTSTART;TZID=UTC:20190324T100000
DTEND;TZID=UTC:20190324T110000
DTSTAMP:20260420T191427
CREATED:20200209T181918Z
LAST-MODIFIED:20200209T181918Z
UID:419-1553421600-1553425200@harvelhashhouseharriers.com
SUMMARY:H4 Handicap:  Road route
DESCRIPTION:
URL:https://harvelhashhouseharriers.com/event/h4-handicap-road-route/
END:VEVENT
BEGIN:VEVENT
DTSTART;TZID=UTC:20190324T093000
DTEND;TZID=UTC:20190324T103000
DTSTAMP:20260420T191427
CREATED:20200209T181918Z
LAST-MODIFIED:20200209T181918Z
UID:418-1553419800-1553423400@harvelhashhouseharriers.com
SUMMARY:Medway Megalith Marathon & Half
DESCRIPTION:
URL:https://harvelhashhouseharriers.com/event/medway-megalith-marathon-half/
END:VEVENT
BEGIN:VEVENT
DTSTART;TZID=UTC:20190317T100000
DTEND;TZID=UTC:20190317T130000
DTSTAMP:20260420T191427
CREATED:20200209T181918Z
LAST-MODIFIED:20200209T181918Z
UID:417-1552816800-1552827600@harvelhashhouseharriers.com
SUMMARY:Vo2 Sportive 70/115K
DESCRIPTION:
URL:https://harvelhashhouseharriers.com/event/vo2-sportive-70-115k/
END:VEVENT
END:VCALENDAR