BEGIN:VCALENDAR
VERSION:2.0
PRODID:-//Harvel Hash House Harriers - ECPv6.15.15//NONSGML v1.0//EN
CALSCALE:GREGORIAN
METHOD:PUBLISH
X-WR-CALNAME:Harvel Hash House Harriers
X-ORIGINAL-URL:https://harvelhashhouseharriers.com
X-WR-CALDESC:Events for Harvel Hash House Harriers
REFRESH-INTERVAL;VALUE=DURATION:PT1H
X-Robots-Tag:noindex
X-PUBLISHED-TTL:PT1H
BEGIN:VTIMEZONE
TZID:UTC
BEGIN:STANDARD
TZOFFSETFROM:+0000
TZOFFSETTO:+0000
TZNAME:UTC
DTSTART:20170101T000000
END:STANDARD
END:VTIMEZONE
BEGIN:VEVENT
DTSTART;TZID=UTC:20190414T110000
DTEND;TZID=UTC:20190414T130000
DTSTAMP:20260420T221938
CREATED:20200209T182245Z
LAST-MODIFIED:20200209T182245Z
UID:422-1555239600-1555246800@harvelhashhouseharriers.com
SUMMARY:H4 Hash
DESCRIPTION:
URL:https://harvelhashhouseharriers.com/event/h4-hash-10/
END:VEVENT
BEGIN:VEVENT
DTSTART;TZID=UTC:20190407T100000
DTEND;TZID=UTC:20190407T120000
DTSTAMP:20260420T221938
CREATED:20200209T181918Z
LAST-MODIFIED:20200209T181918Z
UID:421-1554631200-1554638400@harvelhashhouseharriers.com
SUMMARY:Paddock Wood Half Marathon
DESCRIPTION:
URL:https://harvelhashhouseharriers.com/event/paddock-wood-half-marathon-5/
END:VEVENT
BEGIN:VEVENT
DTSTART;TZID=UTC:20190324T103000
DTEND;TZID=UTC:20190324T113000
DTSTAMP:20260420T221938
CREATED:20200209T181918Z
LAST-MODIFIED:20200209T181918Z
UID:420-1553423400-1553427000@harvelhashhouseharriers.com
SUMMARY:Hastings Half Marathon
DESCRIPTION:
URL:https://harvelhashhouseharriers.com/event/hastings-half-marathon-5/
END:VEVENT
BEGIN:VEVENT
DTSTART;TZID=UTC:20190324T100000
DTEND;TZID=UTC:20190324T110000
DTSTAMP:20260420T221938
CREATED:20200209T181918Z
LAST-MODIFIED:20200209T181918Z
UID:419-1553421600-1553425200@harvelhashhouseharriers.com
SUMMARY:H4 Handicap:  Road route
DESCRIPTION:
URL:https://harvelhashhouseharriers.com/event/h4-handicap-road-route/
END:VEVENT
BEGIN:VEVENT
DTSTART;TZID=UTC:20190324T093000
DTEND;TZID=UTC:20190324T103000
DTSTAMP:20260420T221938
CREATED:20200209T181918Z
LAST-MODIFIED:20200209T181918Z
UID:418-1553419800-1553423400@harvelhashhouseharriers.com
SUMMARY:Medway Megalith Marathon & Half
DESCRIPTION:
URL:https://harvelhashhouseharriers.com/event/medway-megalith-marathon-half/
END:VEVENT
BEGIN:VEVENT
DTSTART;TZID=UTC:20190317T100000
DTEND;TZID=UTC:20190317T130000
DTSTAMP:20260420T221938
CREATED:20200209T181918Z
LAST-MODIFIED:20200209T181918Z
UID:417-1552816800-1552827600@harvelhashhouseharriers.com
SUMMARY:Vo2 Sportive 70/115K
DESCRIPTION:
URL:https://harvelhashhouseharriers.com/event/vo2-sportive-70-115k/
END:VEVENT
BEGIN:VEVENT
DTSTART;TZID=UTC:20190316T000000
DTEND;TZID=UTC:20190317T000000
DTSTAMP:20260420T221938
CREATED:20200209T181917Z
LAST-MODIFIED:20200209T181917Z
UID:416-1552694400-1552780800@harvelhashhouseharriers.com
SUMMARY:LeToss 50!
DESCRIPTION:
URL:https://harvelhashhouseharriers.com/event/letoss-50/
END:VEVENT
BEGIN:VEVENT
DTSTART;TZID=UTC:20190310T080000
DTEND;TZID=UTC:20190310T120000
DTSTAMP:20260420T221938
CREATED:20200209T181917Z
LAST-MODIFIED:20200209T181917Z
UID:415-1552204800-1552219200@harvelhashhouseharriers.com
SUMMARY:Maidstone Road Run
DESCRIPTION:
URL:https://harvelhashhouseharriers.com/event/maidstone-road-run/
END:VEVENT
BEGIN:VEVENT
DTSTART;TZID=UTC:20190303T110000
DTEND;TZID=UTC:20190303T130000
DTSTAMP:20260420T221938
CREATED:20200209T181916Z
LAST-MODIFIED:20200209T181916Z
UID:413-1551610800-1551618000@harvelhashhouseharriers.com
SUMMARY:H4 Hash (Provisional)
DESCRIPTION:
URL:https://harvelhashhouseharriers.com/event/h4-hash-provisional-3/
END:VEVENT
BEGIN:VEVENT
DTSTART;TZID=UTC:20190303T110000
DTEND;TZID=UTC:20190303T130000
DTSTAMP:20260420T221938
CREATED:20200209T181916Z
LAST-MODIFIED:20200209T181916Z
UID:414-1551610800-1551618000@harvelhashhouseharriers.com
SUMMARY:H4 Hash 'The Refresher'
DESCRIPTION:
URL:https://harvelhashhouseharriers.com/event/h4-hash-the-refresher/
END:VEVENT
BEGIN:VEVENT
DTSTART;TZID=UTC:20190303T000000
DTEND;TZID=UTC:20190304T000000
DTSTAMP:20260420T221938
CREATED:20200209T181916Z
LAST-MODIFIED:20200209T181916Z
UID:412-1551571200-1551657600@harvelhashhouseharriers.com
SUMMARY:LDWA Sevenoaks Circular 15/20/30
DESCRIPTION:
URL:https://harvelhashhouseharriers.com/event/ldwa-sevenoaks-circular-15-20-30/
END:VEVENT
BEGIN:VEVENT
DTSTART;TZID=UTC:20190224T103000
DTEND;TZID=UTC:20190224T120000
DTSTAMP:20260420T221938
CREATED:20200209T181857Z
LAST-MODIFIED:20200209T181857Z
UID:410-1551004200-1551009600@harvelhashhouseharriers.com
SUMMARY:Trosley Park 5/10k
DESCRIPTION:
URL:https://harvelhashhouseharriers.com/event/trosley-park-5-10k/
END:VEVENT
BEGIN:VEVENT
DTSTART;TZID=UTC:20190217T100000
DTEND;TZID=UTC:20190217T120000
DTSTAMP:20260420T221938
CREATED:20200209T181857Z
LAST-MODIFIED:20200209T181857Z
UID:409-1550397600-1550404800@harvelhashhouseharriers.com
SUMMARY:Vigo 10m & 10k
DESCRIPTION:
URL:https://harvelhashhouseharriers.com/event/vigo-10m-10k/
END:VEVENT
BEGIN:VEVENT
DTSTART;TZID=UTC:20190217T090000
DTEND;TZID=UTC:20190217T120000
DTSTAMP:20260420T221938
CREATED:20200209T181857Z
LAST-MODIFIED:20200209T181857Z
UID:408-1550394000-1550404800@harvelhashhouseharriers.com
SUMMARY:Tunbridge Wells Half Marathon
DESCRIPTION:
URL:https://harvelhashhouseharriers.com/event/tunbridge-wells-half-marathon-5/
END:VEVENT
BEGIN:VEVENT
DTSTART;TZID=UTC:20190203T110000
DTEND;TZID=UTC:20190203T130000
DTSTAMP:20260420T221938
CREATED:20200209T181857Z
LAST-MODIFIED:20200209T181857Z
UID:407-1549191600-1549198800@harvelhashhouseharriers.com
SUMMARY:H4 Hash (Provisional)
DESCRIPTION:
URL:https://harvelhashhouseharriers.com/event/h4-hash-provisional-2/
END:VEVENT
BEGIN:VEVENT
DTSTART;TZID=UTC:20190203T090000
DTEND;TZID=UTC:20190203T110000
DTSTAMP:20260420T221938
CREATED:20200209T181857Z
LAST-MODIFIED:20200209T181857Z
UID:406-1549184400-1549191600@harvelhashhouseharriers.com
SUMMARY:Bedgebury Forest 10 & 5 Mile
DESCRIPTION:
URL:https://harvelhashhouseharriers.com/event/bedgebury-forest-10-5-mile-2/
END:VEVENT
BEGIN:VEVENT
DTSTART;TZID=UTC:20190127T100000
DTEND;TZID=UTC:20190127T120000
DTSTAMP:20260420T221938
CREATED:20200209T181840Z
LAST-MODIFIED:20200209T181840Z
UID:405-1548583200-1548590400@harvelhashhouseharriers.com
SUMMARY:Canterbury 10Mile
DESCRIPTION:
URL:https://harvelhashhouseharriers.com/event/canterbury-10mile/
END:VEVENT
BEGIN:VEVENT
DTSTART;TZID=UTC:20190126T190000
DTEND;TZID=UTC:20190127T000000
DTSTAMP:20260420T221938
CREATED:20200209T181840Z
LAST-MODIFIED:20200209T181840Z
UID:404-1548529200-1548547200@harvelhashhouseharriers.com
SUMMARY:H4 Dinner Dance
DESCRIPTION:
URL:https://harvelhashhouseharriers.com/event/h4-dinner-dance-4/
END:VEVENT
BEGIN:VEVENT
DTSTART;TZID=UTC:20190119T103000
DTEND;TZID=UTC:20190119T120000
DTSTAMP:20260420T221938
CREATED:20200209T181839Z
LAST-MODIFIED:20200209T181839Z
UID:403-1547893800-1547899200@harvelhashhouseharriers.com
SUMMARY:Saxons Orienteering
DESCRIPTION:
URL:https://harvelhashhouseharriers.com/event/saxons-orienteering/
END:VEVENT
BEGIN:VEVENT
DTSTART;TZID=UTC:20190112T120000
DTEND;TZID=UTC:20190112T133000
DTSTAMP:20260420T221938
CREATED:20200209T181839Z
LAST-MODIFIED:20200209T181839Z
UID:402-1547294400-1547299800@harvelhashhouseharriers.com
SUMMARY:Cambridge Harriers 10mile trail race
DESCRIPTION:
URL:https://harvelhashhouseharriers.com/event/cambridge-harriers-10mile-trail-race/
END:VEVENT
BEGIN:VEVENT
DTSTART;TZID=UTC:20190106T110000
DTEND;TZID=UTC:20190106T130000
DTSTAMP:20260420T221938
CREATED:20200209T181839Z
LAST-MODIFIED:20200209T181839Z
UID:401-1546772400-1546779600@harvelhashhouseharriers.com
SUMMARY:H4 Hash (Provisional)
DESCRIPTION:
URL:https://harvelhashhouseharriers.com/event/h4-hash-provisional/
END:VEVENT
BEGIN:VEVENT
DTSTART;TZID=UTC:20181230T100000
DTEND;TZID=UTC:20181230T120000
DTSTAMP:20260420T221938
CREATED:20200209T181833Z
LAST-MODIFIED:20200209T181833Z
UID:400-1546164000-1546171200@harvelhashhouseharriers.com
SUMMARY:End of Year 10Mile
DESCRIPTION:
URL:https://harvelhashhouseharriers.com/event/end-of-year-10mile/
END:VEVENT
BEGIN:VEVENT
DTSTART;TZID=UTC:20181229T120000
DTEND;TZID=UTC:20181229T130000
DTSTAMP:20260420T221938
CREATED:20200209T181833Z
LAST-MODIFIED:20200209T181833Z
UID:399-1546084800-1546088400@harvelhashhouseharriers.com
SUMMARY:Cambridge Harriers 7.5mile trail race
DESCRIPTION:
URL:https://harvelhashhouseharriers.com/event/cambridge-harriers-7-5mile-trail-race/
END:VEVENT
BEGIN:VEVENT
DTSTART;TZID=UTC:20181216T110000
DTEND;TZID=UTC:20181216T140000
DTSTAMP:20260420T221938
CREATED:20200209T181833Z
LAST-MODIFIED:20200209T181833Z
UID:398-1544958000-1544968800@harvelhashhouseharriers.com
SUMMARY:H4 Santa Hash
DESCRIPTION:
URL:https://harvelhashhouseharriers.com/event/h4-santa-hash-5/
END:VEVENT
BEGIN:VEVENT
DTSTART;TZID=UTC:20181209T100000
DTEND;TZID=UTC:20181209T120000
DTSTAMP:20260420T221938
CREATED:20200209T181832Z
LAST-MODIFIED:20200209T181832Z
UID:397-1544349600-1544356800@harvelhashhouseharriers.com
SUMMARY:Maidstone Harriers: Turkey Run
DESCRIPTION:
URL:https://harvelhashhouseharriers.com/event/maidstone-harriers-turkey-run/
END:VEVENT
BEGIN:VEVENT
DTSTART;TZID=UTC:20181202T090000
DTEND;TZID=UTC:20181202T130000
DTSTAMP:20260420T221938
CREATED:20200209T181832Z
LAST-MODIFIED:20200209T181832Z
UID:396-1543741200-1543755600@harvelhashhouseharriers.com
SUMMARY:Mouth to Mouth Marathon
DESCRIPTION:
URL:https://harvelhashhouseharriers.com/event/mouth-to-mouth-marathon/
END:VEVENT
BEGIN:VEVENT
DTSTART;TZID=UTC:20181201T093000
DTEND;TZID=UTC:20181201T120000
DTSTAMP:20260420T221938
CREATED:20200209T181825Z
LAST-MODIFIED:20200209T181825Z
UID:395-1543656600-1543665600@harvelhashhouseharriers.com
SUMMARY:Saxon Shore Advent Challenge
DESCRIPTION:
URL:https://harvelhashhouseharriers.com/event/saxon-shore-advent-challenge/
END:VEVENT
BEGIN:VEVENT
DTSTART;TZID=UTC:20181125T100000
DTEND;TZID=UTC:20181125T120000
DTSTAMP:20260420T221938
CREATED:20200209T181825Z
LAST-MODIFIED:20200209T181825Z
UID:394-1543140000-1543147200@harvelhashhouseharriers.com
SUMMARY:Tyler Hill Orienteering / 10k
DESCRIPTION:
URL:https://harvelhashhouseharriers.com/event/tyler-hill-orienteering-10k/
END:VEVENT
BEGIN:VEVENT
DTSTART;TZID=UTC:20181118T100000
DTEND;TZID=UTC:20181118T120000
DTSTAMP:20260420T221938
CREATED:20200209T181825Z
LAST-MODIFIED:20200209T181825Z
UID:393-1542535200-1542542400@harvelhashhouseharriers.com
SUMMARY:Bedgebury Half & 10K
DESCRIPTION:
URL:https://harvelhashhouseharriers.com/event/bedgebury-half-10k/
END:VEVENT
BEGIN:VEVENT
DTSTART;TZID=UTC:20181104T110000
DTEND;TZID=UTC:20181104T130000
DTSTAMP:20260420T221938
CREATED:20200209T181825Z
LAST-MODIFIED:20200209T181825Z
UID:392-1541329200-1541336400@harvelhashhouseharriers.com
SUMMARY:H4 Hash
DESCRIPTION:
URL:https://harvelhashhouseharriers.com/event/h4-hash-9/
END:VEVENT
END:VCALENDAR